BEGIN:VCALENDAR
VERSION:2.0
PRODID:-//Grandvision.org - ECPv6.15.19//NONSGML v1.0//EN
CALSCALE:GREGORIAN
METHOD:PUBLISH
X-ORIGINAL-URL:https://grandvision.org
X-WR-CALDESC:Events for Grandvision.org
REFRESH-INTERVAL;VALUE=DURATION:PT1H
X-Robots-Tag:noindex
X-PUBLISHED-TTL:PT1H
BEGIN:VTIMEZONE
TZID:America/Los_Angeles
BEGIN:DAYLIGHT
TZOFFSETFROM:-0800
TZOFFSETTO:-0700
TZNAME:PDT
DTSTART:20210314T100000
END:DAYLIGHT
BEGIN:STANDARD
TZOFFSETFROM:-0700
TZOFFSETTO:-0800
TZNAME:PST
DTSTART:20211107T090000
END:STANDARD
BEGIN:DAYLIGHT
TZOFFSETFROM:-0800
TZOFFSETTO:-0700
TZNAME:PDT
DTSTART:20220313T100000
END:DAYLIGHT
BEGIN:STANDARD
TZOFFSETFROM:-0700
TZOFFSETTO:-0800
TZNAME:PST
DTSTART:20221106T090000
END:STANDARD
BEGIN:DAYLIGHT
TZOFFSETFROM:-0800
TZOFFSETTO:-0700
TZNAME:PDT
DTSTART:20230312T100000
END:DAYLIGHT
BEGIN:STANDARD
TZOFFSETFROM:-0700
TZOFFSETTO:-0800
TZNAME:PST
DTSTART:20231105T090000
END:STANDARD
BEGIN:DAYLIGHT
TZOFFSETFROM:-0800
TZOFFSETTO:-0700
TZNAME:PDT
DTSTART:20240310T100000
END:DAYLIGHT
BEGIN:STANDARD
TZOFFSETFROM:-0700
TZOFFSETTO:-0800
TZNAME:PST
DTSTART:20241103T090000
END:STANDARD
END:VTIMEZONE
BEGIN:VEVENT
DTSTART;TZID=America/Los_Angeles:20230910T160000
DTEND;TZID=America/Los_Angeles:20230910T220000
DTSTAMP:20260419T062615
CREATED:20230623T233109Z
LAST-MODIFIED:20230905T222827Z
UID:10000416-1694361600-1694383200@grandvision.org
SUMMARY:The 3rd Annual SAN PEDRO MUSIC FESTIVAL
DESCRIPTION:The 3rd Annual San Pedro Music Festival is back at the Warner Grand Theatre! Our lineup features some of the finest national and local artists from various music genres. Lots of fun surprises are also in store. \nThis year\, the headliners are PONCHO SANCHEZ\, one of the most influential percussionists in music today and TONY TERRY\, R&B singing sensation out of Atlanta. \nYou can also look forward to Jazz in Pink\, an all women jazz ensemble\, John Stanley King and his band from Palm Desert\, The Scorch Sisters with a tribute to Janis Joplin\, The Foundation with a tribute to the O’Jays plus the amazing jazzy stylings of singer Windy Barnes and more. A spectacular afternoon and evening of R&B\, jazz\, soul and more! \n\nVIP TICKETS include Pre-Concert Balcony Party 2:30pm-4:00pm on the second floor lobby. (Please note: access requires the use of stairs) \nThe  Pre-Concert Balcony Party includes fine cuisine\, wine\, special entertainment by a world-renowned magician Adaris the Perceptionist\, and soft music by Saxophonist Gerald “Pac-Man” Dixon II. Then enjoy the show in the balcony which is the best view from the theater. \nThis year\, there is a new special feature: \nThe Friends & Family Reunion Celebration Group Discount! \nWe are offering 20% off 10 or more tickets\, purchased in one sale. USE CODE: SPMUSIC2023 (This is case sensitive). A perfect event for families\, choirs\, casts\, sororities and other groups of friends to get together.\nYour group will also receive:\n• A reserved block of seats\n• Shout-outs from the stage\n• Commemorative group photo from on-site professional photographer \n  \nThis event is produced by Windy City Entertainment\, Inc. Please contact the event producer for all questions related to this event. \n 
URL:https://grandvision.org/event/windy-barnes-presentsthe-san-pedro-music-festival-2/
LOCATION:Warner Grand Theatre\, 478 W. 6th St.\, San Pedro\, CA\, 90731\, United States
CATEGORIES:Featured Events,Warner Grand
ATTACH;FMTTYPE=image/jpeg:https://grandvision.org/wp-content/uploads/2022/05/Website-Event-Image-7.jpg
END:VEVENT
BEGIN:VEVENT
DTSTART;TZID=America/Los_Angeles:20220731T160000
DTEND;TZID=America/Los_Angeles:20220731T210000
DTSTAMP:20260419T062615
CREATED:20220517T181352Z
LAST-MODIFIED:20220730T004143Z
UID:10000228-1659283200-1659301200@grandvision.org
SUMMARY:Windy Barnes presentsThe San Pedro Music Festival
DESCRIPTION:Windy City Entertainment Inc. presents the 2nd Annual SAN PEDRO MUSIC FESTIVAL \nThis is a FREE event open to all ages. \nThe exciting lineup includes a tribute to Stevie Wonder by his backing ensemble WonderLove. Other performances by international jazz/soul singing sensation Windy Barnes\, The Habits\, a local favorite alternative pop duo\, Victor Orlando & Fun-Ja-La\, Resurrection Road\, Wylde Bunch\, AnDre Washington\, Heru Yahli and many more. Mistress of Ceremony is Broadway\, film and television star\, Roz Ryan. Local vendors will present eye-popping merch and local restaurants and food trucks will offer tasty bites during intermissions. \nA $50 VIP reception from 3-4pm\, features music by the Dynamic Duo\, a silent auction\, fun raffles\, the “Purple Carpet“ and lots of celebrity sightings will kick off the evening creating fun memories to last a lifetime. “It’s the perfect time to honor our planet and our ancestors as we celebrate professional musicians for their dedication to healing the earth through their musical gifts and talents\,” said Windy Barnes Farrell. “We are back and thrilled to safely offer a music festival that represents the demographic makeup of San Pedro and brings all ages together in a fun and meaningful way.” \nSponsors are LA County Supervisor Janice Hahn and Windy City Entertainment Inc.\, a 501(c)(3) nonprofit organization. Proceeds will support WCE’s Heal My Family Program. \n“Our main purpose is to assist families with grief counseling\, food and funeral expenses after the loss of a loved one due to gun and gang violence in San Pedro and the greater Los Angeles area\,” said Windy Barnes Farrell\, founder and president. \n  \nAt the Warner Grand Theatre as of June 15\, 2022:\n\nTicket holders\, cast and crew members who are 5 years+ must present printed or digital proof of full vaccination\, or printed or digital proof of a negative Covid-19 test result issued within the previous 48 hours.\nAll entrants 5 years and older must wear face masks while inside the theater\, unless performing on stage or eating/drinking at their assigned seat.
URL:https://grandvision.org/event/windy-barnes-presentsthe-san-pedro-music-festival/
LOCATION:Warner Grand Theatre\, 478 W. 6th St.\, San Pedro\, CA\, 90731\, United States
CATEGORIES:Concert,Pop,Rock,Warner Grand
ATTACH;FMTTYPE=image/jpeg:https://grandvision.org/wp-content/uploads/2022/05/Website-Event-Image-7.jpg
END:VEVENT
END:VCALENDAR