BEGIN:VCALENDAR
VERSION:2.0
PRODID:-//Grandvision.org - ECPv6.15.19//NONSGML v1.0//EN
CALSCALE:GREGORIAN
METHOD:PUBLISH
X-WR-CALNAME:Grandvision.org
X-ORIGINAL-URL:https://grandvision.org
X-WR-CALDESC:Events for Grandvision.org
REFRESH-INTERVAL;VALUE=DURATION:PT1H
X-Robots-Tag:noindex
X-PUBLISHED-TTL:PT1H
BEGIN:VTIMEZONE
TZID:America/Los_Angeles
BEGIN:DAYLIGHT
TZOFFSETFROM:-0800
TZOFFSETTO:-0700
TZNAME:PDT
DTSTART:20240310T100000
END:DAYLIGHT
BEGIN:STANDARD
TZOFFSETFROM:-0700
TZOFFSETTO:-0800
TZNAME:PST
DTSTART:20241103T090000
END:STANDARD
BEGIN:DAYLIGHT
TZOFFSETFROM:-0800
TZOFFSETTO:-0700
TZNAME:PDT
DTSTART:20250309T100000
END:DAYLIGHT
BEGIN:STANDARD
TZOFFSETFROM:-0700
TZOFFSETTO:-0800
TZNAME:PST
DTSTART:20251102T090000
END:STANDARD
BEGIN:DAYLIGHT
TZOFFSETFROM:-0800
TZOFFSETTO:-0700
TZNAME:PDT
DTSTART:20260308T100000
END:DAYLIGHT
BEGIN:STANDARD
TZOFFSETFROM:-0700
TZOFFSETTO:-0800
TZNAME:PST
DTSTART:20261101T090000
END:STANDARD
END:VTIMEZONE
BEGIN:VEVENT
DTSTART;TZID=America/Los_Angeles:20250803T133000
DTEND;TZID=America/Los_Angeles:20250803T133000
DTSTAMP:20260425T185519
CREATED:20250715T170726Z
LAST-MODIFIED:20250716T230958Z
UID:10000817-1754227800-1754227800@grandvision.org
SUMMARY:Masanga Marimba & Grita Marimba present Marimba Magic
DESCRIPTION:Marimba Magic – Workshop and Show with Grita Marimba and Masanga Marimba \nJoin in a fun afternoon of marimba magic with Masanga Marimba and opener\, Grita Marimba! Come early for a marimba workshop. \n  \n			\n			\n				\n				\n				\n				\n			\n				\n				\n				\n				\n				\n				\n				\n				\n				\n				\n				\n			\n			\n				\n				\n				\n				\n				\n				\n				\n				\n				\n				Masanga Marimba plays a family-friendly blend of traditional and pop music from Africa and Latin America. The SoCal-based ensemble features seven Zimbabwean marimbas\, vocals\, drums\, percussion and brass. They’ve performed at the Hollywood Bowl\, the Getty Center\, and the Ford Amphitheatre\, and have opened for renowned artists such as Neil Young\, Norah Jones\, and Ziggy Marley. \n			\n			\n				\n				\n				\n				\n			\n				\n				\n				\n				\n				\n				\n				\n				\n				\n				\n				\n			\n			\n				\n				\n				\n				\n				\n				\n				\n				\n				\n				Grita Marimba (pictured)\, the premier youth marimba ensemble from Play Marimba in Sonoma County\, opens the show. Hear former students-turned-performers who embody the Play Marimba program’s success. \n			\n			\n				\n				\n				\n				\n			\n				\n				\n				\n				\n				\n				\n				\n				\n				\n				\n				Schedule: \n\n1:30 PM – Marimba Workshop Taught by Grita Marimba Teachers\n2:30 PM – Grita Marimba Performance\n3:30 PM – Masanga Marimba Performance\n\nThis event is produced by Grita Marimba.
URL:https://grandvision.org/event/grita-marimba-masanga-marimba-present-marimba-magic/
LOCATION:The Grand Annex\, 434 W. 6th St.\, San Pedro\, CA\, 90731
CATEGORIES:Featured Events,Grand Vision Season,The Grand Annex
ATTACH;FMTTYPE=image/png:https://grandvision.org/wp-content/uploads/2025/07/25-Fall-Website-Images-4-1.png
END:VEVENT
BEGIN:VEVENT
DTSTART;TZID=America/Los_Angeles:20250804T190000
DTEND;TZID=America/Los_Angeles:20250804T200000
DTSTAMP:20260425T185519
CREATED:20241223T181854Z
LAST-MODIFIED:20250630T195911Z
UID:10000759-1754334000-1754337600@grandvision.org
SUMMARY:TEAM TAIKO Drum Classes Summer Session
DESCRIPTION:Team Taiko classes are divided into 8-week sessions\, with a different pattern taught in each session. They can be purchased by session or by class. \n  \nTeam Taiko is open to all skill levels and abilities\, from beginners to seasoned musicians. Classes are recommended for ages 12 and up; children must either participate with a guardian or have a participation waiver signed before class. \nClasses are offered in person and streamed live via Zoom to allow for all to participate. \nSummer Session: Mondays at 7 PM\, June 30 – August 18 \nTeam Taiko classes are divided into 8-week sessions\, with a different pattern taught in each session. They can be purchased by session or by class. \n\nMonday\, June 30 – 7 PM\nMonday\, July 7 – 7 PM\nMonday\, July 14 – 7 PM\nMonday\, July 21 – 7 PM\nMonday\, July 28 – 7 PM\nMonday\, August 4 – 7 PM\nMonday\, August 11 – 7 PM\nMonday\, August 18 – 7 PM\n\nAbout Class Fees & Sliding Scale: \nTeam Taiko is designed to be $15 per person\, but we don’t want economic circumstances to be a barrier to attending so we offer tickets on a sliding scale. Pay the price that works for you. Your class experience will be the same regardless of which option you choose. \nTo Attend In Person: \n\nPlease bring water and wear comfortable clothes. Taiko is a full-body practice.\nDrumsticks (bachi) will be provided for you.\n\nTo Attend Virtually: \n\nThe Zoom link will be emailed to you with your receipt.\nLearn how to make your own practice drum here.
URL:https://grandvision.org/event/team-taiko-drum-classes-summer-session-2/2025-08-04/
LOCATION:The Grand Annex\, 434 W. 6th St.\, San Pedro\, CA\, 90731
CATEGORIES:Class
ATTACH;FMTTYPE=image/png:https://grandvision.org/wp-content/uploads/2024/06/24-Fall-Website-Image-3-1.png
END:VEVENT
BEGIN:VEVENT
DTSTART;TZID=America/Los_Angeles:20250807T183000
DTEND;TZID=America/Los_Angeles:20250807T203000
DTSTAMP:20260425T185519
CREATED:20250715T173315Z
LAST-MODIFIED:20250805T003912Z
UID:10000818-1754591400-1754598600@grandvision.org
SUMMARY:Grand Annex Open House
DESCRIPTION:Celebrate First Thursday with us at the Grand Annex Music Hall! Enjoy a laid-back summer evening with live music by Full Circle featuring Patti Orbeck\, Sylvia Owens and Debra Bain. Bring in dinner from the food trucks and enjoy good vibes all around. \nFree\, $10 donation encouraged. \nNo-host bar open. Outside food is welcome.
URL:https://grandvision.org/event/grand-annex-open-house-2/
LOCATION:The Grand Annex\, 434 W. 6th St.\, San Pedro\, CA\, 90731
CATEGORIES:Featured Events,The Grand Annex
ATTACH;FMTTYPE=image/png:https://grandvision.org/wp-content/uploads/2025/07/25-Fall-Website-Images-6.png
END:VEVENT
END:VCALENDAR