BEGIN:VCALENDAR
VERSION:2.0
PRODID:-//Grandvision.org - ECPv6.15.19//NONSGML v1.0//EN
CALSCALE:GREGORIAN
METHOD:PUBLISH
X-WR-CALNAME:Grandvision.org
X-ORIGINAL-URL:https://grandvision.org
X-WR-CALDESC:Events for Grandvision.org
REFRESH-INTERVAL;VALUE=DURATION:PT1H
X-Robots-Tag:noindex
X-PUBLISHED-TTL:PT1H
BEGIN:VTIMEZONE
TZID:America/Los_Angeles
BEGIN:DAYLIGHT
TZOFFSETFROM:-0800
TZOFFSETTO:-0700
TZNAME:PDT
DTSTART:20230312T100000
END:DAYLIGHT
BEGIN:STANDARD
TZOFFSETFROM:-0700
TZOFFSETTO:-0800
TZNAME:PST
DTSTART:20231105T090000
END:STANDARD
BEGIN:DAYLIGHT
TZOFFSETFROM:-0800
TZOFFSETTO:-0700
TZNAME:PDT
DTSTART:20240310T100000
END:DAYLIGHT
BEGIN:STANDARD
TZOFFSETFROM:-0700
TZOFFSETTO:-0800
TZNAME:PST
DTSTART:20241103T090000
END:STANDARD
BEGIN:DAYLIGHT
TZOFFSETFROM:-0800
TZOFFSETTO:-0700
TZNAME:PDT
DTSTART:20250309T100000
END:DAYLIGHT
BEGIN:STANDARD
TZOFFSETFROM:-0700
TZOFFSETTO:-0800
TZNAME:PST
DTSTART:20251102T090000
END:STANDARD
END:VTIMEZONE
BEGIN:VEVENT
DTSTART;TZID=America/Los_Angeles:20240909T190000
DTEND;TZID=America/Los_Angeles:20240909T200000
DTSTAMP:20260419T181147
CREATED:20240627T165059Z
LAST-MODIFIED:20241014T222750Z
UID:10000644-1725908400-1725912000@grandvision.org
SUMMARY:TEAM TAIKO Drum Classes Fall Session
DESCRIPTION:We believe in creating unique opportunities for people to meet their neighbors and engage in their community in a new way. Come play with us! \nTaiko is a Japanese traditional drumming practice that\, over the last several decades\, has become a global phenomenon. Since 2013\, Grand Vision has partnered with leading taiko instructors to bring the art form to the South Bay. \nTaiko Artist Man Man Mui guides participants toward a repertoire of drumming techniques and patterns. Sessions include developing rhythmic sensibility\, body awareness\, breath and strength training as students make music together as a team. \nTeam Taiko is open to all skill levels and abilities\, from beginners to seasoned musicians. Classes are recommended for ages 12 and up\, children must either participate with a guardian or have a participation waiver signed before class. \nClasses are offered in person and streamed live via Zoom to allow for all to participate. \n  \nFall Session Mondays at 7 PM September – October\nTeam Taiko classes are broken into 7-week sessions\, with a different pattern taught during each session. Team Taiko can be purchased by session or by class. \n\nMonday\, September 9 – 7 PM\nMonday\, September 16 – 7 PM\nMonday\, September 23 – 7 PM\nMonday\, September 30 – 7 PM\nMonday\, October 7 – 7 PM\nMonday\, October 21 – 7 PM\nMonday\, October 28 – 7 PM\n\nAbout Class Fees & Sliding Scale: \nTeam Taiko is designed to be $15 per person\, but we don’t want economic circumstances to be a barrier to attending so we offer tickets on a sliding scale. Pay the price that works for you. Your class experience will be the same regardless of which option you choose. \nTo Attend in Person: \n\nPlease bring water and wear comfortable clothes. Taiko is a full-body practice\nDrumstick (bachi) will be provided for you.\n\nTo Attend Virtually: \n\nThe Zoom link will be emailed to you with your receipt.\nLearn how to make your own practice drum here.
URL:https://grandvision.org/event/team-taiko-drum-classes-fall-session/2024-09-09/
LOCATION:The Grand Annex\, 434 W. 6th St.\, San Pedro\, CA\, 90731
CATEGORIES:Class
ATTACH;FMTTYPE=image/png:https://grandvision.org/wp-content/uploads/2024/06/24-Fall-Website-Image-3-1.png
END:VEVENT
BEGIN:VEVENT
DTSTART;TZID=America/Los_Angeles:20240912T190000
DTEND;TZID=America/Los_Angeles:20240912T210000
DTSTAMP:20260419T181147
CREATED:20240731T191514Z
LAST-MODIFIED:20240903T201304Z
UID:10000392-1726167600-1726174800@grandvision.org
SUMMARY:OPEN MIC NIGHTMonthly\, Every 2nd Thursday
DESCRIPTION:Starting 10/10/24 we will no longer be able to offer a bar ticket with admission.\nThank you for your continued support of Open Mic!\n\nMusicians & Poets!\n\nCome on down to the Grand Annex on the second Thursday of each month for Open Mic Night!\n\nTo perform:\n\nSign up at 6:30 PM. The first 12 sign-ups are guaranteed to perform\, with additional artists as time allows.\nPlan to do 2 songs/poems (limit stage time to under 8 minutes).\nThis is an all ages show\, all ages and genres are welcome to perform.\nTo keep the space welcoming for all ages; please keep your act clean and appropriate for all ages. Avoid rants\, blue comedy and punching down. Inappropriate acts will be removed from the stage and banned from future performances.\nMicrophones\, D.I.\, music stand and keyboard available. You can use the aux cord to connect your smartphone if you will be performing with a backing track. The Aux cord is compatible with Apple devices that use a lighting connector.\n\n\n\n\nHosted by: Ken Creighton\, Andrew Aragon and Taran Schindler.
URL:https://grandvision.org/event/open-mic-night-11-2/2024-09-12/
LOCATION:The Grand Annex\, 434 W. 6th St.\, San Pedro\, CA\, 90731
CATEGORIES:Featured Events,Open Mic
ATTACH;FMTTYPE=image/png:https://grandvision.org/wp-content/uploads/2023/03/2023-Spring-PM-and-Website-Images.png
END:VEVENT
BEGIN:VEVENT
DTSTART;TZID=America/Los_Angeles:20240913T200000
DTEND;TZID=America/Los_Angeles:20240913T200000
DTSTAMP:20260419T181147
CREATED:20240701T173828Z
LAST-MODIFIED:20240822T184601Z
UID:10000629-1726257600-1726257600@grandvision.org
SUMMARY:Mustangs of the West
DESCRIPTION:Trailblazing all-women quintet deliver sparkling\, powerful and irresistible Country-Americana! Mustangs of the West first made waves at the famed Palomino club in the late 1980s\, when it was ground zero for the post-cowpunk California country scene. \n			\n			\n				\n				\n				\n				\n			\n				\n				\n				\n				\n				\n				\n				\n				\n				\n				\n				After a 20-year hiatus\, founding member and lead guitarist Sherry Rayn Barnett reunited the group with original members Suzanna Spring (lead vocalist/songwriter/acoustic guitarist) and Holly Montgomery (bassist/vocalist). The new lineup was finalized with Aubrey Richmond (fiddle/mandolin/vocals) and Suzanne Morissette Cruz (drums/percussion/vocals). \nWith their new Americana country sound\, their albums — the first of which was produced by the acclaimed Mark Howard (Bob Dylan\, Lucinda Williams\, Willie Nelson\, Emmylou Harris) — have received excellent reviews. Their 2024 record “Down At The Palomino” topped the Roots Radio Report charts for 18 weeks. \nLast year\, the group performed at SXSW as official artists\, AmericanaFest in Nashville\, and headlined at The Bankhead Theatre in Northern California. This year\, they returned to Nashville for live shows at 3rd & Lindsley and on WMOT-FM (billed with Chris Smither). \nThe Mustangs of the West are: \n\nSuzanna Spring\nSherry Rayn Barnett\nHolly Montgomery\nSuzanne Morissette\nAubrey Richmond
URL:https://grandvision.org/event/mustangs-of-the-west/
LOCATION:The Grand Annex\, 434 W. 6th St.\, San Pedro\, CA\, 90731
CATEGORIES:Featured Events,Grand Vision Season,The Grand Annex
ATTACH;FMTTYPE=image/png:https://grandvision.org/wp-content/uploads/2024/07/Mustangs-of-the-West-1.png
END:VEVENT
BEGIN:VEVENT
DTSTART;TZID=America/Los_Angeles:20240914T200000
DTEND;TZID=America/Los_Angeles:20240914T200000
DTSTAMP:20260419T181147
CREATED:20240610T172537Z
LAST-MODIFIED:20240906T183430Z
UID:10000628-1726344000-1726344000@grandvision.org
SUMMARY:The David Robert Pollock Variety Hour
DESCRIPTION:Modern folk singer-songwriter David Robert Pollock (formerly known as DCR Pollock) returns to the Annex to premiere his new “David Robert Pollock Variety Hour\,” featuring guest appearances by talent from across the LA music scene. \n			\n			\n				\n				\n				\n				\n			\n				\n				\n				\n				\n				\n				\n				\n				\n				\n				\n				This show brings to life his short indie film “The David Robert Pollock Show: Fame Is Poison And Your Heroes Are Cowards.” The film takes place on a 70s television set\, reminiscent of classic variety hours like The Dean Martin Show\, but with a thrilling\, dark comedy twist.
URL:https://grandvision.org/event/the-david-robert-pollock-variety-hour/
LOCATION:The Grand Annex\, 434 W. 6th St.\, San Pedro\, CA\, 90731
CATEGORIES:Featured Events,Grand Vision Season,The Grand Annex
ATTACH;FMTTYPE=image/png:https://grandvision.org/wp-content/uploads/2024/06/David-Robert-Pollock-1-1.png
END:VEVENT
END:VCALENDAR