BEGIN:VCALENDAR
VERSION:2.0
PRODID:-//Grandvision.org - ECPv6.15.19//NONSGML v1.0//EN
CALSCALE:GREGORIAN
METHOD:PUBLISH
X-ORIGINAL-URL:https://grandvision.org
X-WR-CALDESC:Events for Grandvision.org
REFRESH-INTERVAL;VALUE=DURATION:PT1H
X-Robots-Tag:noindex
X-PUBLISHED-TTL:PT1H
BEGIN:VTIMEZONE
TZID:America/Los_Angeles
BEGIN:DAYLIGHT
TZOFFSETFROM:-0800
TZOFFSETTO:-0700
TZNAME:PDT
DTSTART:20240310T100000
END:DAYLIGHT
BEGIN:STANDARD
TZOFFSETFROM:-0700
TZOFFSETTO:-0800
TZNAME:PST
DTSTART:20241103T090000
END:STANDARD
BEGIN:DAYLIGHT
TZOFFSETFROM:-0800
TZOFFSETTO:-0700
TZNAME:PDT
DTSTART:20250309T100000
END:DAYLIGHT
BEGIN:STANDARD
TZOFFSETFROM:-0700
TZOFFSETTO:-0800
TZNAME:PST
DTSTART:20251102T090000
END:STANDARD
BEGIN:DAYLIGHT
TZOFFSETFROM:-0800
TZOFFSETTO:-0700
TZNAME:PDT
DTSTART:20260308T100000
END:DAYLIGHT
BEGIN:STANDARD
TZOFFSETFROM:-0700
TZOFFSETTO:-0800
TZNAME:PST
DTSTART:20261101T090000
END:STANDARD
END:VTIMEZONE
BEGIN:VEVENT
DTSTART;TZID=America/Los_Angeles:20250503T200000
DTEND;TZID=America/Los_Angeles:20250503T200000
DTSTAMP:20260420T183826
CREATED:20241217T020737Z
LAST-MODIFIED:20250430T235223Z
UID:10000699-1746302400-1746302400@grandvision.org
SUMMARY:Spotlight Singer-Songwriters with Blackbird Record Label🍷
DESCRIPTION:Hosted by Americana-Country artist Manda Mosher\, a five-time LA Music Awards winner. Mosher performs along with Dead Rock West\, Silas Nello and Pi Jacobs. \nGrand Vision and Blackbird Record Label collaborated to put this Spotlight Series line-up together through a generous grant from the Live Music Society. \n			\n			\n				\n				\n				\n				\n			\n				\n				\n				\n				\n				\n				\n				\n				\n				\n				\n				LA-based Blackbird Record Label\, founded by recording artist Manda Mosher and record label executive and music supervisor Eric Craig\, represents a strong community of Americana and Alt-Country artists. Manda and Eric are also the founders and producers of the annual California Country Show at Americanafest in Nashville. \n			\n			\n				\n				\n				\n				\n			\n				\n				\n				\n				\n				\n				\n				\n				\n				\n				\n				\n			\n			\n				\n				\n				\n				\n				\n				\n				\n				\n				\n				Manda Mosher has deep roots in California’s Alt-Americana and Alt-Country scenes. LA Music Critic\, Bob Leggett says\, “Mosher’s voice is so smoky and strong [and] her stage presence reminds us of a younger Emmylou Harris.” She has two solo albums and two more with CALICO the Band. Mosher is a four-time LA Critic Awards winner and five-time LA Music Awards winner\, earning honors: Americana Album of the Year\, Singer-Songwriter of the Year\, and two-time National Touring Artist of the Year. \n			\n			\n				\n				\n				\n				\n			\n				\n				\n				\n				\n				\n				\n				\n				\n				\n				\n				\n			\n			\n				\n				\n				\n				\n				\n				\n				\n				\n				\n				“X meets Wilco? A dream combination for fans of roots-inspired\, punk-spirited rock. Dead Rock West is a Los Angeles-based duo blending Americana and country vibes with punk flair. Fronted by Cindy Wasserman and Frank Lee Drennen\, they’ve toured with legends like Dave Alvin\, John Doe and X. \n			\n			\n				\n				\n				\n				\n			\n				\n				\n				\n				\n				\n				\n				\n				\n				\n				\n				\n			\n			\n				\n				\n				\n				\n				\n				\n				\n				\n				\n				Silas Nello\, originally from Daingerfield\, Texas and now based in LA\, has a knack for blending blues\, rock\, and folk. With influences like Paul Cauthen and Leon Bridges\, his introspective songwriting and dynamic performances have made him a staple of the indie-Americana scene for nearly a decade. Nello’s critically acclaimed albums\, Out of the Light and Easy Listening For Uneasy People\, showcase his genre-bending style and compelling storytelling. Always evolving\, Nello continues to captivate audiences nationwide with his soulful music. \n			\n			\n				\n				\n				\n				\n			\n				\n				\n				\n				\n				\n				\n				\n				\n				\n				\n				\n			\n			\n				\n				\n				\n				\n				\n				\n				\n				\n				\n				Pi Jacobs draws inspiration from her unconventional upbringing in Northern California. Blending roots-rock swagger and storytelling soul\, her music has drawn comparisons to Tom Waits and Lucinda Williams. She has been highlighted in music magazines: Americana Highways and American Songwriter Magazine\, heard on NPR and Austin Music TV and regularly featured on tastemakers KCSN\, WFUV and stations across the nation. \n			\n			\n				\n				\n				\n				\n			\n				\n				\n				\n				\n				\n				\n				\n				\n				\n				\n				🍷Pre-Concert Wine Tasting: \nTaste fine wines led by professional sommelier\, Jean-Philippe Molinari. \nFree to Grand Vision members at the Friend\, Champion\, VIP Circle\, Arts Advocate and Performing Arts Patron level – up to two per household\, $16 per person for all others. Concert tickets are required to participate. Members’ tasting tickets must be redeemed in advance. Tastings begin one hour before the show\, please arrive no later than 30 minutes into the tasting to participate.
URL:https://grandvision.org/event/spotlight-series-co-presented-with-blackbird-record-label/
LOCATION:The Grand Annex\, 434 W. 6th St.\, San Pedro\, CA\, 90731
CATEGORIES:Featured Events,Grand Vision Season,The Grand Annex
ATTACH;FMTTYPE=image/png:https://grandvision.org/wp-content/uploads/2024/12/Spotlight-Blackbird-1.png
END:VEVENT
BEGIN:VEVENT
DTSTART;TZID=America/Los_Angeles:20250505T190000
DTEND;TZID=America/Los_Angeles:20250505T200000
DTSTAMP:20260420T183826
CREATED:20241223T180011Z
LAST-MODIFIED:20241223T180011Z
UID:10000734-1746471600-1746475200@grandvision.org
SUMMARY:TEAM TAIKO Drum Classes Spring Session
DESCRIPTION:Team Taiko classes are divided into 8-week sessions\, with a different pattern taught in each session. They can be purchased by session or by class. \n  \nTeam Taiko is open to all skill levels and abilities\, from beginners to seasoned musicians. Classes are recommended for ages 12 and up\, children must either participate with a guardian or have a participation waiver signed before class. \nClasses are offered in person and streamed live via Zoom to allow for all to participate. \nSpring Session Mondays at 7 PM April 21 – June 9: \nTeam Taiko classes are divided into 8-week sessions\, with a different pattern taught in each session. They can be purchased by session or by class. \n\nMonday\, April 21 – 7 PM\nMonday\, April 28 – 7 PM\nMonday\, May 5 – 7 PM\nMonday\, May 12 – 7 PM\nMonday\, May 19 – 7 PM\nMonday\, May 26 – 7 PM\nMonday\, June 2 – 7 PM\nMonday\, June 9 – 7 PM\n\nAbout Class Fees & Sliding Scale: \nTeam Taiko is designed to be $15 per person\, but we don’t want economic circumstances to be a barrier to attending so we offer tickets on a sliding scale. Pay the price that works for you. Your class experience will be the same regardless of which option you choose. \nTo Attend In Person: \n\nPlease bring water and wear comfortable clothes. Taiko is a full-body practice\nDrumstick (bachi) will be provided for you.\n\nTo Attend Virtually: \n\nThe Zoom link will be emailed to you with your receipt.\nLearn how to make your own practice drum here.
URL:https://grandvision.org/event/team-taiko-drum-classes-spring-session-2/2025-05-05/
LOCATION:The Grand Annex\, 434 W. 6th St.\, San Pedro\, CA\, 90731
CATEGORIES:Class
ATTACH;FMTTYPE=image/png:https://grandvision.org/wp-content/uploads/2024/06/24-Fall-Website-Image-3-1.png
END:VEVENT
BEGIN:VEVENT
DTSTART;TZID=America/Los_Angeles:20250507T173000
DTEND;TZID=America/Los_Angeles:20250507T173000
DTSTAMP:20260420T183826
CREATED:20250421T210423Z
LAST-MODIFIED:20250428T164940Z
UID:10000786-1746639000-1746639000@grandvision.org
SUMMARY:LA Poverty Dept. presents The Covid Hotel - A Free Play
DESCRIPTION:The Covid Hotel Welcomes You to the Future is a performance by Los Angeles Poverty Department\, a theater group from Skid Row that has performed throughout LA and the world. It is inspired by interviews with healthcare workers who ran the LA County Health Department’s Quarantine & Isolation sites for unhoused COVID patients. The performance celebrates the unexpected innovations of these “Covid Hotels” and amplifies the programs that are building upon these innovations to provide low-barrier access to healthcare and housing. A panel discussion will follow the performance: Reimagining the Future of Healthcare for Our Homeless Community. \nPanelists: \nJetzel Chavez\, Domestic Violence Regional Coordinator (SPA 8)\, Rainbow Services \nDr. Caleb Lusk\, MD\, MPH\, FASAM\, Chief Medical Officer\, Harbor Community Health Centers \nAmber Sheikh\, LAHSA Commissioner and community advocate \nValancy Valles\, Community Crisis Response Crisis Intervention Specialist\, Long Beach Department of Health and Human Services \nThis performance is free and open to all. No RSVP required. \n  \nThis event is produced by the Los Angeles Poverty Department. \nPlease contact the event organizer for all questions related to the event.
URL:https://grandvision.org/event/la-poverty-dept-presents-the-covid-hotel-free-play/
LOCATION:The Grand Annex\, 434 W. 6th St.\, San Pedro\, CA\, 90731
CATEGORIES:Featured Events,The Grand Annex
ATTACH;FMTTYPE=image/png:https://grandvision.org/wp-content/uploads/2025/04/25-Spring-Website-Image-1.png
ORGANIZER;CN="Los Angeles Poverty Department":MAILTO:info@lapovertydept.org
END:VEVENT
BEGIN:VEVENT
DTSTART;TZID=America/Los_Angeles:20250508T190000
DTEND;TZID=America/Los_Angeles:20250508T210000
DTSTAMP:20260420T183826
CREATED:20250107T203602Z
LAST-MODIFIED:20251027T194952Z
UID:10000459-1746730800-1746738000@grandvision.org
SUMMARY:OPEN MIC NIGHTMonthly\, Every 2nd Thursday
DESCRIPTION:Musicians & Poets!\n\nCome on down to the Grand Annex on the second Thursday of each month for Open Mic Night!\n\nHosted by: Ken Creighton\n\nTo perform:\n\nSign ups start at 6:30 PM.\nThe first 12 sign-ups are guaranteed to perform\, with additional artists as time allows.\nPlan to do 2 songs/poems (limit stage time to under 8 minutes).\nMicrophones\, D.I.\, music stand and a keyboard are available. If you will be performing with a backing track\, you can use the aux cord to connect your smartphone to the sound system. The Aux cord is compatible with Apple devices that use a lightning connector.\nThis is an all-ages show; all ages and genres are welcome to perform.\n\nTo keep the space welcoming for all ages\, please keep your act appropriate for all ages. Avoid rants\, blue comedy and punching down. Inappropriate acts will be removed from the stage and banned from future performances.
URL:https://grandvision.org/event/open-mic-night-11-2-2/2025-05-08/
LOCATION:The Grand Annex\, 434 W. 6th St.\, San Pedro\, CA\, 90731
CATEGORIES:Featured Events,Open Mic
ATTACH;FMTTYPE=image/png:https://grandvision.org/wp-content/uploads/2024/07/25-Spring-Website-Image.png
END:VEVENT
BEGIN:VEVENT
DTSTART;TZID=America/Los_Angeles:20250510T200000
DTEND;TZID=America/Los_Angeles:20250510T200000
DTSTAMP:20260420T183826
CREATED:20241216T221058Z
LAST-MODIFIED:20250421T191620Z
UID:10000705-1746907200-1746907200@grandvision.org
SUMMARY:Afro Fiesta
DESCRIPTION:Hailing from the Democratic Republic of the Congo\, Mermans “Mofaya” Mosengo and Jason Tamba formed Afro Fiesta\, and recently rounded out the band with Coco Buono and Jose Agote\, two members of the Argentine rock band Los Pinguos. \nWith early musical influences such as Bob Marley\, Tracy Chapman and Peter Tosh\, the band plays a fusion of eclectic styles including Afro-beat\, reggae and Latin rhythms. You may recognize them from playing with Twanguero in their other band\, Los Silverbacks. \n			\n			\n				\n				\n				\n				\n			\n				\n				\n				\n				\n				\n				\n				\n				\n				\n				\n				Afro Fiesta has been part of the movement Playing For Change (PFC) since its inception. PFC aims to inspire\, connect and bring peace to the world through music. Through PFC\, Afro Fiesta has performed more than 400 concerts in over 25 countries\, including headlining in Brazil for an audience of 35\,000 and opening for Robert Plant in Australia. Earning a reputation as innovators\, Afro Fiesta has performed at numerous music festivals\, including SXSW and OBZ Festival in South Africa. \nAfro Fiesta Band Members: \n\nMermans Mosengo\, vocals and percussion\nJason Tamba\, vocals and guitar\nChella Mputu\, vocals and shakers\nLoguylo Mabungu\, drums\nNseka Bimuela lead guitar\nSam\, bass
URL:https://grandvision.org/event/afro-fiesta/
LOCATION:The Grand Annex\, 434 W. 6th St.\, San Pedro\, CA\, 90731
CATEGORIES:Featured Events,Grand Vision Season,The Grand Annex
ATTACH;FMTTYPE=image/png:https://grandvision.org/wp-content/uploads/2024/12/Afro-Fiesta2.png
END:VEVENT
BEGIN:VEVENT
DTSTART;TZID=America/Los_Angeles:20250512T190000
DTEND;TZID=America/Los_Angeles:20250512T200000
DTSTAMP:20260420T183826
CREATED:20241223T180011Z
LAST-MODIFIED:20241223T180011Z
UID:10000735-1747076400-1747080000@grandvision.org
SUMMARY:TEAM TAIKO Drum Classes Spring Session
DESCRIPTION:Team Taiko classes are divided into 8-week sessions\, with a different pattern taught in each session. They can be purchased by session or by class. \n  \nTeam Taiko is open to all skill levels and abilities\, from beginners to seasoned musicians. Classes are recommended for ages 12 and up\, children must either participate with a guardian or have a participation waiver signed before class. \nClasses are offered in person and streamed live via Zoom to allow for all to participate. \nSpring Session Mondays at 7 PM April 21 – June 9: \nTeam Taiko classes are divided into 8-week sessions\, with a different pattern taught in each session. They can be purchased by session or by class. \n\nMonday\, April 21 – 7 PM\nMonday\, April 28 – 7 PM\nMonday\, May 5 – 7 PM\nMonday\, May 12 – 7 PM\nMonday\, May 19 – 7 PM\nMonday\, May 26 – 7 PM\nMonday\, June 2 – 7 PM\nMonday\, June 9 – 7 PM\n\nAbout Class Fees & Sliding Scale: \nTeam Taiko is designed to be $15 per person\, but we don’t want economic circumstances to be a barrier to attending so we offer tickets on a sliding scale. Pay the price that works for you. Your class experience will be the same regardless of which option you choose. \nTo Attend In Person: \n\nPlease bring water and wear comfortable clothes. Taiko is a full-body practice\nDrumstick (bachi) will be provided for you.\n\nTo Attend Virtually: \n\nThe Zoom link will be emailed to you with your receipt.\nLearn how to make your own practice drum here.
URL:https://grandvision.org/event/team-taiko-drum-classes-spring-session-2/2025-05-12/
LOCATION:The Grand Annex\, 434 W. 6th St.\, San Pedro\, CA\, 90731
CATEGORIES:Class
ATTACH;FMTTYPE=image/png:https://grandvision.org/wp-content/uploads/2024/06/24-Fall-Website-Image-3-1.png
END:VEVENT
BEGIN:VEVENT
DTSTART;TZID=America/Los_Angeles:20250518T140000
DTEND;TZID=America/Los_Angeles:20250518T140000
DTSTAMP:20260420T183826
CREATED:20250430T234132Z
LAST-MODIFIED:20250501T001648Z
UID:10000791-1747576800-1747576800@grandvision.org
SUMMARY:San Pedro Waterfront Arts District Holy Frit Film Screening
DESCRIPTION:Holy Frit Film Screening with Tim Carey and Justin Monroe \nJoin us for a very special screening of the documentary film\, Holy Frit\, along with the glass artist\, Tim Carey and filmmaker\, Justin Monroe. \n“In this visceral three-year race against time\, Tim Carey\, a talented\, yet unknown LA artist bluffs his way into winning the commission to create the largest stained-glass window in the world. The problem is\, he doesn’t know how to make it. After a desperate search\, he finds someone who might have the answer… a famous\, Italian glass maestro named Narcissus Quagliata. As the fates of three communities hang in the balance\, Narcissus arrives like a storm\, and everything changes.” \nHoly Frit is a fascinating examination of the artist’s process\, resulting in the largest stained glass window in the world. \nTim will be showing some of his art prints and we will be auctioning a tour of his studio. \nThis event is presented by the San Pedro Waterfront Arts District.\nPlease contact the event producer for all questions related to this event.
URL:https://grandvision.org/event/san-pedro-waterfront-arts-district-presents-holy-frit-film/
LOCATION:The Grand Annex\, 434 W. 6th St.\, San Pedro\, CA\, 90731
CATEGORIES:The Grand Annex
ATTACH;FMTTYPE=image/png:https://grandvision.org/wp-content/uploads/2025/04/25-Spring-Website-Image-6.png
ORGANIZER;CN="San Pedro Waterfront Arts":MAILTO:55lindagrimes@gmail.com
END:VEVENT
BEGIN:VEVENT
DTSTART;TZID=America/Los_Angeles:20250519T190000
DTEND;TZID=America/Los_Angeles:20250519T200000
DTSTAMP:20260420T183826
CREATED:20241223T180011Z
LAST-MODIFIED:20241223T180011Z
UID:10000736-1747681200-1747684800@grandvision.org
SUMMARY:TEAM TAIKO Drum Classes Spring Session
DESCRIPTION:Team Taiko classes are divided into 8-week sessions\, with a different pattern taught in each session. They can be purchased by session or by class. \n  \nTeam Taiko is open to all skill levels and abilities\, from beginners to seasoned musicians. Classes are recommended for ages 12 and up\, children must either participate with a guardian or have a participation waiver signed before class. \nClasses are offered in person and streamed live via Zoom to allow for all to participate. \nSpring Session Mondays at 7 PM April 21 – June 9: \nTeam Taiko classes are divided into 8-week sessions\, with a different pattern taught in each session. They can be purchased by session or by class. \n\nMonday\, April 21 – 7 PM\nMonday\, April 28 – 7 PM\nMonday\, May 5 – 7 PM\nMonday\, May 12 – 7 PM\nMonday\, May 19 – 7 PM\nMonday\, May 26 – 7 PM\nMonday\, June 2 – 7 PM\nMonday\, June 9 – 7 PM\n\nAbout Class Fees & Sliding Scale: \nTeam Taiko is designed to be $15 per person\, but we don’t want economic circumstances to be a barrier to attending so we offer tickets on a sliding scale. Pay the price that works for you. Your class experience will be the same regardless of which option you choose. \nTo Attend In Person: \n\nPlease bring water and wear comfortable clothes. Taiko is a full-body practice\nDrumstick (bachi) will be provided for you.\n\nTo Attend Virtually: \n\nThe Zoom link will be emailed to you with your receipt.\nLearn how to make your own practice drum here.
URL:https://grandvision.org/event/team-taiko-drum-classes-spring-session-2/2025-05-19/
LOCATION:The Grand Annex\, 434 W. 6th St.\, San Pedro\, CA\, 90731
CATEGORIES:Class
ATTACH;FMTTYPE=image/png:https://grandvision.org/wp-content/uploads/2024/06/24-Fall-Website-Image-3-1.png
END:VEVENT
BEGIN:VEVENT
DTSTART;TZID=America/Los_Angeles:20250524T160000
DTEND;TZID=America/Los_Angeles:20250524T160000
DTSTAMP:20260420T183826
CREATED:20250423T172856Z
LAST-MODIFIED:20250522T215130Z
UID:10000783-1748102400-1748102400@grandvision.org
SUMMARY:Concerts at the Harbor MLC Band (Mid-Life Crisis)
DESCRIPTION:Grand Vision presents Mid-Life Crisis (MLC) during San Pedro Waterfront’s Fleet Week at the LA Maritime Museum Plaza. Danceable favorites from a high-energy\, classic rock band that is pure San Pedro-bred! Led by singer Roni Iacono. \n  \nWith the support of the Port of Los Angeles and West Harbor\, Grand Vision is presenting four outdoor concerts that will add live music to San Pedro events on the waterfront. \nAt the LA Maritime Museum Plaza: \n\n5/24 MLC Band (Mid-Life Crisis)\, Fleet Week at 5 PM\n5/25 Drift Away\, Fleet Week at 5 PM\n6/7 Homegrown Collective\, San Pedro Pride Flag Raising at 2 PM
URL:https://grandvision.org/event/concerts-at-the-harbor-mid-life-crisis-mlc/
LOCATION:LA Maritime Museum Plaza\, Berth 84\, San Pedro\, CA\, 90731\, United States
CATEGORIES:Featured Events,Grand Vision Season,The Grand Annex
ATTACH;FMTTYPE=image/png:https://grandvision.org/wp-content/uploads/2025/04/25-Spring-Website-Image-2.png
END:VEVENT
BEGIN:VEVENT
DTSTART;TZID=America/Los_Angeles:20250524T170000
DTEND;TZID=America/Los_Angeles:20250524T170000
DTSTAMP:20260420T183826
CREATED:20250430T203825Z
LAST-MODIFIED:20250520T000615Z
UID:10000787-1748106000-1748106000@grandvision.org
SUMMARY:POLAHS Senior ShowcaseVisual and Performing Arts
DESCRIPTION:The senior class of Port of Los Angeles High School Visual and Performing Arts Curriculum return to the Grand Annex with an exciting and eclectic mix of music\, dance\, drama\, and video. \nThis event is presented by the Port of Los Angeles High School\, please contact the event presenter with all questions.
URL:https://grandvision.org/event/polahs-senior-showcasevisual-and-performing-arts-3/
LOCATION:The Grand Annex\, 434 W. 6th St.\, San Pedro\, CA\, 90731
CATEGORIES:The Grand Annex
ATTACH;FMTTYPE=image/png:https://grandvision.org/wp-content/uploads/2022/05/Website-Event-Image-2.png
END:VEVENT
BEGIN:VEVENT
DTSTART;TZID=America/Los_Angeles:20250525T170000
DTEND;TZID=America/Los_Angeles:20250525T170000
DTSTAMP:20260420T183826
CREATED:20250423T173229Z
LAST-MODIFIED:20250522T215636Z
UID:10000784-1748192400-1748192400@grandvision.org
SUMMARY:Concerts at the Harbor Drift Away
DESCRIPTION:Grand Vision presents Drift Away\, a talented quartet performing R&B\, funk and more hits from the soulful ’60s and ’70s featuring: \n\nHarold Payne\, multi-platinum songwriter for artists such as Rod Stewart\, Patti Labelle and longtime collaborator\, Bobby Womack; literally from Peter Paul & Mary to Snoop Dogg.\nRick Cowling\, toured with Kenny Loggins and Ambrosia playing keyboards\, guitar and vocals for many years and produced songs for Bonnie Raitt\, Bobby Womack and Melissa Manchester.\nPercussionist Oliver C. Brown\, original member of KC & The Sunshine Band and has toured with Al Jarreau\, Fleetwood Mac\, Leo Sayer and smooth jazz artist NILS.\nMichael Mennell\, bassist and vocalist\, has played and recorded with Sir Tom Jones\, John Fogerty\, Boz Scaggs and Billy F. Gibbons and is a Pop Bass professor at the USC Thornton School of Music\n\n  \nWith the support of the Port of Los Angeles and West Harbor\, Grand Vision is presenting four outdoor concerts that will add live music to San Pedro events on the waterfront. \nAt the LA Maritime Museum Plaza: \n\n5/24 MLC Band (Mid-Life Crisis)\, Fleet Week at 5 PM\n5/25 Drift Away\, Fleet Week at 5 PM\n6/7 Homegrown Collective\, San Pedro Pride Flag Raising at 2 PM
URL:https://grandvision.org/event/concerts-at-the-harbor-drift-away/
LOCATION:LA Maritime Museum Plaza\, Berth 84\, San Pedro\, CA\, 90731\, United States
CATEGORIES:Featured Events,Grand Vision Season,The Grand Annex
ATTACH;FMTTYPE=image/png:https://grandvision.org/wp-content/uploads/2025/04/25-Spring-Website-Image-1-1.png
END:VEVENT
BEGIN:VEVENT
DTSTART;TZID=America/Los_Angeles:20250526T190000
DTEND;TZID=America/Los_Angeles:20250526T200000
DTSTAMP:20260420T183826
CREATED:20241223T180011Z
LAST-MODIFIED:20241223T180011Z
UID:10000737-1748286000-1748289600@grandvision.org
SUMMARY:TEAM TAIKO Drum Classes Spring Session
DESCRIPTION:Team Taiko classes are divided into 8-week sessions\, with a different pattern taught in each session. They can be purchased by session or by class. \n  \nTeam Taiko is open to all skill levels and abilities\, from beginners to seasoned musicians. Classes are recommended for ages 12 and up\, children must either participate with a guardian or have a participation waiver signed before class. \nClasses are offered in person and streamed live via Zoom to allow for all to participate. \nSpring Session Mondays at 7 PM April 21 – June 9: \nTeam Taiko classes are divided into 8-week sessions\, with a different pattern taught in each session. They can be purchased by session or by class. \n\nMonday\, April 21 – 7 PM\nMonday\, April 28 – 7 PM\nMonday\, May 5 – 7 PM\nMonday\, May 12 – 7 PM\nMonday\, May 19 – 7 PM\nMonday\, May 26 – 7 PM\nMonday\, June 2 – 7 PM\nMonday\, June 9 – 7 PM\n\nAbout Class Fees & Sliding Scale: \nTeam Taiko is designed to be $15 per person\, but we don’t want economic circumstances to be a barrier to attending so we offer tickets on a sliding scale. Pay the price that works for you. Your class experience will be the same regardless of which option you choose. \nTo Attend In Person: \n\nPlease bring water and wear comfortable clothes. Taiko is a full-body practice\nDrumstick (bachi) will be provided for you.\n\nTo Attend Virtually: \n\nThe Zoom link will be emailed to you with your receipt.\nLearn how to make your own practice drum here.
URL:https://grandvision.org/event/team-taiko-drum-classes-spring-session-2/2025-05-26/
LOCATION:The Grand Annex\, 434 W. 6th St.\, San Pedro\, CA\, 90731
CATEGORIES:Class
ATTACH;FMTTYPE=image/png:https://grandvision.org/wp-content/uploads/2024/06/24-Fall-Website-Image-3-1.png
END:VEVENT
BEGIN:VEVENT
DTSTART;TZID=America/Los_Angeles:20250531T190000
DTEND;TZID=America/Los_Angeles:20250531T190000
DTSTAMP:20260420T183826
CREATED:20250430T205655Z
LAST-MODIFIED:20250530T000620Z
UID:10000788-1748718000-1748718000@grandvision.org
SUMMARY:Rina Orellena presents Fiesta Flamenca 2025
DESCRIPTION:Annual showcase of live flamenco music and dance\, featuring the dancers of Rina Orellana Flamenco Academy & Company. \nSpecial musical guests – Tony Triana (guitar)\, Ana Quintero (vocals) and Johnny Sandoval (percussion). \nThis event is produced by Rina Orellana Flamenco Academy & Company\, please contact them for all event questions.
URL:https://grandvision.org/event/rina-orllena-presents-fiesta-flamenca-2025/
LOCATION:The Grand Annex\, 434 W. 6th St.\, San Pedro\, CA\, 90731
CATEGORIES:Dance,Featured Events,The Grand Annex
ATTACH;FMTTYPE=image/png:https://grandvision.org/wp-content/uploads/2025/04/25-Spring-Website-Image-4-1.png
ORGANIZER;CN="Rina Orellana":MAILTO:rina@rinaorellana.com
END:VEVENT
END:VCALENDAR