BEGIN:VCALENDAR
VERSION:2.0
PRODID:-//Grandvision.org - ECPv6.15.19//NONSGML v1.0//EN
CALSCALE:GREGORIAN
METHOD:PUBLISH
X-WR-CALNAME:Grandvision.org
X-ORIGINAL-URL:https://grandvision.org
X-WR-CALDESC:Events for Grandvision.org
REFRESH-INTERVAL;VALUE=DURATION:PT1H
X-Robots-Tag:noindex
X-PUBLISHED-TTL:PT1H
BEGIN:VTIMEZONE
TZID:America/Los_Angeles
BEGIN:DAYLIGHT
TZOFFSETFROM:-0800
TZOFFSETTO:-0700
TZNAME:PDT
DTSTART:20250309T100000
END:DAYLIGHT
BEGIN:STANDARD
TZOFFSETFROM:-0700
TZOFFSETTO:-0800
TZNAME:PST
DTSTART:20251102T090000
END:STANDARD
BEGIN:DAYLIGHT
TZOFFSETFROM:-0800
TZOFFSETTO:-0700
TZNAME:PDT
DTSTART:20260308T100000
END:DAYLIGHT
BEGIN:STANDARD
TZOFFSETFROM:-0700
TZOFFSETTO:-0800
TZNAME:PST
DTSTART:20261101T090000
END:STANDARD
BEGIN:DAYLIGHT
TZOFFSETFROM:-0800
TZOFFSETTO:-0700
TZNAME:PDT
DTSTART:20270314T100000
END:DAYLIGHT
BEGIN:STANDARD
TZOFFSETFROM:-0700
TZOFFSETTO:-0800
TZNAME:PST
DTSTART:20271107T090000
END:STANDARD
END:VTIMEZONE
BEGIN:VEVENT
DTSTART;TZID=America/Los_Angeles:20260219T160000
DTEND;TZID=America/Los_Angeles:20260219T180000
DTSTAMP:20260425T091552
CREATED:20260218T002449Z
LAST-MODIFIED:20260218T002449Z
UID:10001021-1771516800-1771524000@grandvision.org
SUMMARY:SP Chamber pres. Board Connection Mixer
DESCRIPTION:Join the San Pedro Chamber of Commerce and The Nonprofit Partnership for the San Pedro Board Connection Mixer\, a dynamic networking event that brings together nonprofits and professionals from corporate\, public\, and nonprofit sectors who are eager to give back and take on leadership roles in the nonprofit world. Unlike traditional tabling events\, this experience fosters organic conversations about board service\, leadership\, and the impactful missions of local organizations. Nonprofits serving the San Pedro community are invited to participate and connect with passionate\, skilled individuals ready to support their mission and help shape a stronger future. \nThis event is produced by the San Pedro Chamber of Commerce. Please contact the event producer for all questions.
URL:https://grandvision.org/event/sp-chamber-pres-board-connection-mixer/
LOCATION:The Grand Annex\, 434 W. 6th St.\, San Pedro\, CA\, 90731
CATEGORIES:Annex Rental,The Grand Annex
ATTACH;FMTTYPE=image/png:https://grandvision.org/wp-content/uploads/2026/02/26-WS-Website-Images-3.png
ORGANIZER;CN="SP Chamber of Commerce":MAILTO:info@sanpedrochamber.com
END:VEVENT
END:VCALENDAR