BEGIN:VCALENDAR
VERSION:2.0
PRODID:-//Grandvision.org - ECPv6.15.19//NONSGML v1.0//EN
CALSCALE:GREGORIAN
METHOD:PUBLISH
X-WR-CALNAME:Grandvision.org
X-ORIGINAL-URL:https://grandvision.org
X-WR-CALDESC:Events for Grandvision.org
REFRESH-INTERVAL;VALUE=DURATION:PT1H
X-Robots-Tag:noindex
X-PUBLISHED-TTL:PT1H
BEGIN:VTIMEZONE
TZID:America/Los_Angeles
BEGIN:DAYLIGHT
TZOFFSETFROM:-0800
TZOFFSETTO:-0700
TZNAME:PDT
DTSTART:20250309T100000
END:DAYLIGHT
BEGIN:STANDARD
TZOFFSETFROM:-0700
TZOFFSETTO:-0800
TZNAME:PST
DTSTART:20251102T090000
END:STANDARD
BEGIN:DAYLIGHT
TZOFFSETFROM:-0800
TZOFFSETTO:-0700
TZNAME:PDT
DTSTART:20260308T100000
END:DAYLIGHT
BEGIN:STANDARD
TZOFFSETFROM:-0700
TZOFFSETTO:-0800
TZNAME:PST
DTSTART:20261101T090000
END:STANDARD
BEGIN:DAYLIGHT
TZOFFSETFROM:-0800
TZOFFSETTO:-0700
TZNAME:PDT
DTSTART:20270314T100000
END:DAYLIGHT
BEGIN:STANDARD
TZOFFSETFROM:-0700
TZOFFSETTO:-0800
TZNAME:PST
DTSTART:20271107T090000
END:STANDARD
END:VTIMEZONE
BEGIN:VEVENT
DTSTART;TZID=America/Los_Angeles:20260201T160000
DTEND;TZID=America/Los_Angeles:20260201T160000
DTSTAMP:20260423T063233
CREATED:20251120T173818Z
LAST-MODIFIED:20251219T005452Z
UID:10000866-1769961600-1769961600@grandvision.org
SUMMARY:Chin Chin Ent. Ventura Highway: The Music of America
DESCRIPTION:Celebrate the timeless music of America with Ventura Highway — The #1 Tribute to America! \nThis extraordinary live concert recreates the sound\, feel\, and spirit of the legendary band that defined a generation with hits like “Ventura Highway\,” “A Horse With No Name\,” “Sister Golden Hair\,” “Tin Man\,” and more.\n			\n			\n				\n				\n				\n				\n			\n				\n				\n				\n				\n				\n				\n				\n				\n				\n				\n				Ventura Highway features an all-star lineup of exceptional musicians:  Jeff Ellis\, an accomplished award-winning guitarist and award recipient for best album and contemporary song of the year; Jim Wootten\, son of the legendary Red Wootten who performed with Frank Sinatra and other greats\, and nephew of the icon guitarist Les Paul and singer Mary Ford; and Michael Olivieri\, former member of the acclaimed rock band Leatherwolf\, who appeared on MTV and toured internationally with Jack Russell’s Great White Band.  Together with the stellar Ventura Highway rhythm section Kevin Herrera and Joey Alva\, they faithfully recreate America’s rich harmonies and smooth acoustic style. \nWith lush vocals\, brilliant musicianship\, and authentic arrangements\, Ventura Highway brings audiences back to the golden age of folk rock – celebrating one of the most beloved bands of the 1970s.  From the first note to the last encore\, it’s a feel-good concert experience that captures the heart\, harmony\, timeless spirit and visuals of America’s unforgettable music. \nThis event is produced by Chin Chin Entertainment.\nPlease contact the event producers for all questions related to this event.
URL:https://grandvision.org/event/ventura-highway-america-tribute/
LOCATION:The Grand Annex\, 434 W. 6th St.\, San Pedro\, CA\, 90731
CATEGORIES:Annex Rental,Featured Events,The Grand Annex
ATTACH;FMTTYPE=image/png:https://grandvision.org/wp-content/uploads/2025/11/America-Tribute-Banner-SAN-PEDRO-4.png
ORGANIZER;CN="Chin Chin Entertainment":MAILTO:concetta@chinchinentertainment.com
END:VEVENT
BEGIN:VEVENT
DTSTART;TZID=America/Los_Angeles:20260219T160000
DTEND;TZID=America/Los_Angeles:20260219T180000
DTSTAMP:20260423T063233
CREATED:20260218T002449Z
LAST-MODIFIED:20260218T002449Z
UID:10001021-1771516800-1771524000@grandvision.org
SUMMARY:SP Chamber pres. Board Connection Mixer
DESCRIPTION:Join the San Pedro Chamber of Commerce and The Nonprofit Partnership for the San Pedro Board Connection Mixer\, a dynamic networking event that brings together nonprofits and professionals from corporate\, public\, and nonprofit sectors who are eager to give back and take on leadership roles in the nonprofit world. Unlike traditional tabling events\, this experience fosters organic conversations about board service\, leadership\, and the impactful missions of local organizations. Nonprofits serving the San Pedro community are invited to participate and connect with passionate\, skilled individuals ready to support their mission and help shape a stronger future. \nThis event is produced by the San Pedro Chamber of Commerce. Please contact the event producer for all questions.
URL:https://grandvision.org/event/sp-chamber-pres-board-connection-mixer/
LOCATION:The Grand Annex\, 434 W. 6th St.\, San Pedro\, CA\, 90731
CATEGORIES:Annex Rental,The Grand Annex
ATTACH;FMTTYPE=image/png:https://grandvision.org/wp-content/uploads/2026/02/26-WS-Website-Images-3.png
ORGANIZER;CN="SP Chamber of Commerce":MAILTO:info@sanpedrochamber.com
END:VEVENT
BEGIN:VEVENT
DTSTART;TZID=America/Los_Angeles:20260226T090000
DTEND;TZID=America/Los_Angeles:20260226T170000
DTSTAMP:20260423T063233
CREATED:20260218T001637Z
LAST-MODIFIED:20260218T002605Z
UID:10001020-1772096400-1772125200@grandvision.org
SUMMARY:Arts United San Pedro presents Artist Branding Workshop
DESCRIPTION:Boost your vibe and get your unique style on point at our in-person Artist Branding Workshop! \nArtist Branding Workshop\nHey creatives! Join us in person for the Artist Branding Workshop where you’ll learn how to craft a unique style and make your mark. This is your chance to connect\, get inspired\, and build a brand that truly represents YOU. Don’t miss out on the fun and insight-packed session! \nThis event is produced by Arts United. Please contact them with all event related questions.
URL:https://grandvision.org/event/arts-united-san-pedro-presents-artist-branding-workshop/
LOCATION:The Grand Annex\, 434 W. 6th St.\, San Pedro\, CA\, 90731
CATEGORIES:Annex Rental,The Grand Annex
ATTACH;FMTTYPE=image/png:https://grandvision.org/wp-content/uploads/2026/02/26-WS-Website-Images-2.png
ORGANIZER;CN="Arts United":MAILTO:info@artsunitedsp.org
END:VEVENT
END:VCALENDAR