BEGIN:VCALENDAR
VERSION:2.0
PRODID:-//Grandvision.org - ECPv6.15.19//NONSGML v1.0//EN
CALSCALE:GREGORIAN
METHOD:PUBLISH
X-WR-CALNAME:Grandvision.org
X-ORIGINAL-URL:https://grandvision.org
X-WR-CALDESC:Events for Grandvision.org
REFRESH-INTERVAL;VALUE=DURATION:PT1H
X-Robots-Tag:noindex
X-PUBLISHED-TTL:PT1H
BEGIN:VTIMEZONE
TZID:America/Los_Angeles
BEGIN:DAYLIGHT
TZOFFSETFROM:-0800
TZOFFSETTO:-0700
TZNAME:PDT
DTSTART:20210314T100000
END:DAYLIGHT
BEGIN:STANDARD
TZOFFSETFROM:-0700
TZOFFSETTO:-0800
TZNAME:PST
DTSTART:20211107T090000
END:STANDARD
BEGIN:DAYLIGHT
TZOFFSETFROM:-0800
TZOFFSETTO:-0700
TZNAME:PDT
DTSTART:20220313T100000
END:DAYLIGHT
BEGIN:STANDARD
TZOFFSETFROM:-0700
TZOFFSETTO:-0800
TZNAME:PST
DTSTART:20221106T090000
END:STANDARD
BEGIN:DAYLIGHT
TZOFFSETFROM:-0800
TZOFFSETTO:-0700
TZNAME:PDT
DTSTART:20230312T100000
END:DAYLIGHT
BEGIN:STANDARD
TZOFFSETFROM:-0700
TZOFFSETTO:-0800
TZNAME:PST
DTSTART:20231105T090000
END:STANDARD
END:VTIMEZONE
BEGIN:VEVENT
DTSTART;TZID=America/Los_Angeles:20220507T200000
DTEND;TZID=America/Los_Angeles:20220507T200000
DTSTAMP:20260420T150757
CREATED:20211208T235758Z
LAST-MODIFIED:20220508T012933Z
UID:10000192-1651953600-1651953600@grandvision.org
SUMMARY:The PettyBreakers
DESCRIPTION:Advance ticket sales are closed. 10 General Admission tickets will be available at the door\, on a first-come-first-serve basis. Doors open at 7:30pm. $35 Card / $33 Cash \nThe nation’s premier “Tom Petty and the Heartbreakers” tribute act. The band accurately recreates the concert experience of a Tom Petty concert with all the classics American Girl\, Free Fallin’\, Mary Jane’s Last Dance\, Refugee and more. The PettyBreakers performed on AXS TV’s “The World’s Greatest Tribute Bands\,” honoring the music of legendary Tom Petty. \nCovid-19 Safety at the Grand Annex\nAs of 3/25/22 Masks are strongly recommended for all\, we ask that those who have not been vaccinated wear masks.
URL:https://grandvision.org/event/the-pettybreakers/
LOCATION:The Grand Annex\, 434 W. 6th St.\, San Pedro\, CA\, 90731
CATEGORIES:Featured Events,Rock,The Grand Annex
ATTACH;FMTTYPE=image/jpeg:https://grandvision.org/wp-content/uploads/2021/12/Petty-Breakers.jpg
END:VEVENT
END:VCALENDAR