BEGIN:VCALENDAR
VERSION:2.0
PRODID:-//Grandvision.org - ECPv6.15.19//NONSGML v1.0//EN
CALSCALE:GREGORIAN
METHOD:PUBLISH
X-ORIGINAL-URL:https://grandvision.org
X-WR-CALDESC:Events for Grandvision.org
REFRESH-INTERVAL;VALUE=DURATION:PT1H
X-Robots-Tag:noindex
X-PUBLISHED-TTL:PT1H
BEGIN:VTIMEZONE
TZID:America/Los_Angeles
BEGIN:DAYLIGHT
TZOFFSETFROM:-0800
TZOFFSETTO:-0700
TZNAME:PDT
DTSTART:20210314T100000
END:DAYLIGHT
BEGIN:STANDARD
TZOFFSETFROM:-0700
TZOFFSETTO:-0800
TZNAME:PST
DTSTART:20211107T090000
END:STANDARD
BEGIN:DAYLIGHT
TZOFFSETFROM:-0800
TZOFFSETTO:-0700
TZNAME:PDT
DTSTART:20220313T100000
END:DAYLIGHT
BEGIN:STANDARD
TZOFFSETFROM:-0700
TZOFFSETTO:-0800
TZNAME:PST
DTSTART:20221106T090000
END:STANDARD
BEGIN:DAYLIGHT
TZOFFSETFROM:-0800
TZOFFSETTO:-0700
TZNAME:PDT
DTSTART:20230312T100000
END:DAYLIGHT
BEGIN:STANDARD
TZOFFSETFROM:-0700
TZOFFSETTO:-0800
TZNAME:PST
DTSTART:20231105T090000
END:STANDARD
END:VTIMEZONE
BEGIN:VEVENT
DTSTART;TZID=America/Los_Angeles:20220320T190000
DTEND;TZID=America/Los_Angeles:20220320T190000
DTSTAMP:20260421T180052
CREATED:20220225T223034Z
LAST-MODIFIED:20220305T202843Z
UID:10000205-1647802800-1647802800@grandvision.org
SUMMARY:2022 Oscar NominatedDocumentary Shorts
DESCRIPTION:See this years best short films in animation\, live-action and documentaries prior to the awards broadcast on March 27\, 2022. Tickets will also be available at the door starting one hour before the show. \nCovid-19 Safety at the Warner Grand Theatre\nAs of 2/25/22: All City of LA and LA County Health Orders will be followed. Attendees 5 years and over who present proof of full vaccination do not need to wear a mask\, although they may choose to wear one. Attendees who are not fully vaccinated may present printed proof of a NEGATIVE COVID test result; a PCR test taken within the previous 48 hours\, or a home antigen test taken within the previous 24 hours. Until further notice\, concessions consists of water\, coffee\, soft drinks\, beer and wine in plastic screw-top containers; no food items may be consumed in the venue.\nThe Covid-19 rules are in flux. Please contact the Warner Grand Theatre at 310-548-2493 or the organizer of the event you wish to attend to check the rules before attending. Thank you.
URL:https://grandvision.org/event/2022-oscar-nominated-shortsdocumentary-shorts/
LOCATION:Warner Grand Theatre\, 478 W. 6th St.\, San Pedro\, 90731
CATEGORIES:Featured Events,Film,Warner Grand
ATTACH;FMTTYPE=image/jpeg:https://grandvision.org/wp-content/uploads/2021/12/WGT-SPIFF-2022-3.jpg
END:VEVENT
BEGIN:VEVENT
DTSTART;TZID=America/Los_Angeles:20220324T190000
DTEND;TZID=America/Los_Angeles:20220324T190000
DTSTAMP:20260421T180052
CREATED:20220225T223115Z
LAST-MODIFIED:20220306T221051Z
UID:10000206-1648148400-1648148400@grandvision.org
SUMMARY:2022 Oscar NominatedLive Action Shorts
DESCRIPTION:See this years best short films in animation\, live-action and documentaries prior to the awards broadcast on March 27\, 2022. Tickets will also be available at the door starting one hour before the show. \nCovid-19 Safety at the Warner Grand Theatre\nCovid-19 rules are quickly changing. Please contact the Warner Grand Theatre at 310-548-2493 or the organizer of the event you wish to attend to check the rules before attending. Thank you.
URL:https://grandvision.org/event/2022-oscar-nominated-shortslive-action-shorts/
LOCATION:Warner Grand Theatre\, 478 W. 6th St.\, San Pedro\, 90731
CATEGORIES:Featured Events,Film,Warner Grand
ATTACH;FMTTYPE=image/jpeg:https://grandvision.org/wp-content/uploads/2021/12/WGT-SPIFF-2022-3.jpg
END:VEVENT
BEGIN:VEVENT
DTSTART;TZID=America/Los_Angeles:20220326T200000
DTEND;TZID=America/Los_Angeles:20220326T200000
DTSTAMP:20260421T180052
CREATED:20220205T083136Z
LAST-MODIFIED:20220326T211654Z
UID:10000201-1648324800-1648324800@grandvision.org
SUMMARY:Willie Watson
DESCRIPTION:This concert is Sold Out! Please see the Grand Annex calendar for other shows you might enjoy. \n“There’s so much beauty in this old music\, and it affects me on a deep level. It moves me and inspires me. I heard Leadbelly singing with the Golden Gate Quartet and it sounded fantastic\, and I thought\, ‘I want to do that.” ~ Willie Watson \nFor nearly two decades\, Willie Watson (formerly of Grammy-winning roots-rock band Old Crow Medicine Show) has made modern folk music rooted in older traditions. Watson is a folksinger in the classic sense: a singer\, storyteller\, and traveler\, with a catalog of songs that bridge the gap between the past and present. He acts as a modern interpreter of older songs\, passing along his own version of the music that came long before him. \nWith a quick vibrato and rich range\, he breathes new life into classic songs like Samson and Delilah. He’s a balladeer when he sings Gallows Pole\, a bluesman when he performs When My Baby Left Me. Dry Bones finds him crooning and hollering\, while Take This Hammer\, has Watson singing to the heavens. \nOpener: Honey Whiskey Trio \nThe beloved three sisters in song return to the Annex stage this Saturday as the opening act! Los Angeles-based Honey Whiskey Trio tells stories through song and stomp\, highlighting the musical traditions of American Folk Music. \nCovid-19 Safety at the Grand Annex\nAs of 3/25/22 Masks are strongly recommended for all\, we ask that those who have not been vaccinated wear masks.
URL:https://grandvision.org/event/willie-watson/
LOCATION:The Grand Annex\, 434 W. 6th St.\, San Pedro\, CA\, 90731
CATEGORIES:Americana,Featured Events,The Grand Annex
ATTACH;FMTTYPE=image/png:https://grandvision.org/wp-content/uploads/2022/01/Copy-of-2022-Spring-Season-Website-Event-Featured-Images.png
END:VEVENT
END:VCALENDAR