BEGIN:VCALENDAR
VERSION:2.0
PRODID:-//Grandvision.org - ECPv6.15.19//NONSGML v1.0//EN
CALSCALE:GREGORIAN
METHOD:PUBLISH
X-WR-CALNAME:Grandvision.org
X-ORIGINAL-URL:https://grandvision.org
X-WR-CALDESC:Events for Grandvision.org
REFRESH-INTERVAL;VALUE=DURATION:PT1H
X-Robots-Tag:noindex
X-PUBLISHED-TTL:PT1H
BEGIN:VTIMEZONE
TZID:America/Los_Angeles
BEGIN:DAYLIGHT
TZOFFSETFROM:-0800
TZOFFSETTO:-0700
TZNAME:PDT
DTSTART:20210314T100000
END:DAYLIGHT
BEGIN:STANDARD
TZOFFSETFROM:-0700
TZOFFSETTO:-0800
TZNAME:PST
DTSTART:20211107T090000
END:STANDARD
BEGIN:DAYLIGHT
TZOFFSETFROM:-0800
TZOFFSETTO:-0700
TZNAME:PDT
DTSTART:20220313T100000
END:DAYLIGHT
BEGIN:STANDARD
TZOFFSETFROM:-0700
TZOFFSETTO:-0800
TZNAME:PST
DTSTART:20221106T090000
END:STANDARD
BEGIN:DAYLIGHT
TZOFFSETFROM:-0800
TZOFFSETTO:-0700
TZNAME:PDT
DTSTART:20230312T100000
END:DAYLIGHT
BEGIN:STANDARD
TZOFFSETFROM:-0700
TZOFFSETTO:-0800
TZNAME:PST
DTSTART:20231105T090000
END:STANDARD
END:VTIMEZONE
BEGIN:VEVENT
DTSTART;TZID=America/Los_Angeles:20220226T200000
DTEND;TZID=America/Los_Angeles:20220226T200000
DTSTAMP:20260422T145908
CREATED:20211208T234126Z
LAST-MODIFIED:20220225T204340Z
UID:10000185-1645905600-1645905600@grandvision.org
SUMMARY:Mara Kaye
DESCRIPTION:A joyous phenomenon\, she becomes her songs… she doesn’t pose\, she doesn’t copy\, but her entrancing music pierces our hearts – Michael Steinman\, Jazz Lives \nReminiscent of the best acoustic blues singers of an earlier time\, Mara Kaye has a refreshing approach to the songs of Bessie Smith\, the Smith Sisters and more. Kaye will be joined at the Annex by Boogie-woogie piano legend\, Carl Sonny Leyland\, Jon Atkinson and Tim McNalley. \nAny sentence\, any phrase\, any word in the lyrics she sings and find some emotional energy to be transformed into a growl\, a coo\, a shout\, a quiver. – Clinton Davis\, The San Diego Troubadour \nCovid-19 Safety at the Grand Annex\nFor everyone’s safety and health\, and in compliance with City of LA protocols\, face masks are required for all unvaccinated attendees ages 2+ during all events. All attendees ages 2+ must show proof of full Covid-19 vaccination\, a negative PCR test taken within 48 hours\, or a negative antigen test taken within 24 hours. Attendees ages 18+ must show a valid ID along with proof of vaccination.
URL:https://grandvision.org/event/mara-kaye/
LOCATION:The Grand Annex\, 434 W. 6th St.\, San Pedro\, CA\, 90731
CATEGORIES:Featured Events,Jazz,The Grand Annex
ATTACH;FMTTYPE=image/jpeg:https://grandvision.org/wp-content/uploads/2021/12/MARA-KAYE-Door.jpg
END:VEVENT
END:VCALENDAR