BEGIN:VCALENDAR
VERSION:2.0
PRODID:-//Grandvision.org - ECPv6.15.19//NONSGML v1.0//EN
CALSCALE:GREGORIAN
METHOD:PUBLISH
X-WR-CALNAME:Grandvision.org
X-ORIGINAL-URL:https://grandvision.org
X-WR-CALDESC:Events for Grandvision.org
REFRESH-INTERVAL;VALUE=DURATION:PT1H
X-Robots-Tag:noindex
X-PUBLISHED-TTL:PT1H
BEGIN:VTIMEZONE
TZID:America/Los_Angeles
BEGIN:DAYLIGHT
TZOFFSETFROM:-0800
TZOFFSETTO:-0700
TZNAME:PDT
DTSTART:20250309T100000
END:DAYLIGHT
BEGIN:STANDARD
TZOFFSETFROM:-0700
TZOFFSETTO:-0800
TZNAME:PST
DTSTART:20251102T090000
END:STANDARD
BEGIN:DAYLIGHT
TZOFFSETFROM:-0800
TZOFFSETTO:-0700
TZNAME:PDT
DTSTART:20260308T100000
END:DAYLIGHT
BEGIN:STANDARD
TZOFFSETFROM:-0700
TZOFFSETTO:-0800
TZNAME:PST
DTSTART:20261101T090000
END:STANDARD
BEGIN:DAYLIGHT
TZOFFSETFROM:-0800
TZOFFSETTO:-0700
TZNAME:PDT
DTSTART:20270314T100000
END:DAYLIGHT
BEGIN:STANDARD
TZOFFSETFROM:-0700
TZOFFSETTO:-0800
TZNAME:PST
DTSTART:20271107T090000
END:STANDARD
END:VTIMEZONE
BEGIN:VEVENT
DTSTART;TZID=America/Los_Angeles:20260621T160000
DTEND;TZID=America/Los_Angeles:20260621T160000
DTSTAMP:20260422T160042
CREATED:20251219T001845Z
LAST-MODIFIED:20260225T201759Z
UID:10000901-1782057600-1782057600@grandvision.org
SUMMARY:The Secret Agents
DESCRIPTION:LA’s Premier 1960’s Music Revue! The Secret Agents flawlessly capture the sound of 1960s Jazz\, Cinema\, Pop\, Rock and R&B: the music that makes whatever you’re doing simply cooler. \nSuddenly\, you’re flying First-Class on Pan-Am sipping dry martinis in a svelte three-button suit en route to Las Vegas where you’ll be dining with Steve McQueen at the Sands Hotel just before the Rat Pack show. That’s the level of cool we’re talking about here… \n			\n			\n				\n				\n				\n				\n			\n				\n				\n				\n				\n				\n				\n				\n				\n				\n				\n				The Secret Agents were formed in 2018 with one mission: to bring the sounds of the ’60s back into the mainstream by celebrating the music of Bobby Darin\, Mel Tormé\, Henry Mancini\, Lalo Schifrin\, Johnny Rivers\, Chet Baker\, Matt Monro\, Horace Silver\, Georgie Fame & The Flames\, The Buckinghams\, Mickey & Sylvia\, Del Shannon\, The Association\, and so many more! \nSo put on that dinner jacket\, pour yourself a drink\, and let’s twist again like we did so very long ago.
URL:https://grandvision.org/event/the-secret-agents/
LOCATION:The Grand Annex\, 434 W. 6th St.\, San Pedro\, CA\, 90731
CATEGORIES:Featured Events,Grand Vision Season,The Grand Annex
ATTACH;FMTTYPE=image/png:https://grandvision.org/wp-content/uploads/2025/12/26-WS-Website-Images-4.png
END:VEVENT
END:VCALENDAR