BEGIN:VCALENDAR
VERSION:2.0
PRODID:-//Grandvision.org - ECPv6.15.19//NONSGML v1.0//EN
CALSCALE:GREGORIAN
METHOD:PUBLISH
X-ORIGINAL-URL:https://grandvision.org
X-WR-CALDESC:Events for Grandvision.org
REFRESH-INTERVAL;VALUE=DURATION:PT1H
X-Robots-Tag:noindex
X-PUBLISHED-TTL:PT1H
BEGIN:VTIMEZONE
TZID:America/Los_Angeles
BEGIN:DAYLIGHT
TZOFFSETFROM:-0800
TZOFFSETTO:-0700
TZNAME:PDT
DTSTART:20220313T100000
END:DAYLIGHT
BEGIN:STANDARD
TZOFFSETFROM:-0700
TZOFFSETTO:-0800
TZNAME:PST
DTSTART:20221106T090000
END:STANDARD
BEGIN:DAYLIGHT
TZOFFSETFROM:-0800
TZOFFSETTO:-0700
TZNAME:PDT
DTSTART:20230312T100000
END:DAYLIGHT
BEGIN:STANDARD
TZOFFSETFROM:-0700
TZOFFSETTO:-0800
TZNAME:PST
DTSTART:20231105T090000
END:STANDARD
BEGIN:DAYLIGHT
TZOFFSETFROM:-0800
TZOFFSETTO:-0700
TZNAME:PDT
DTSTART:20240310T100000
END:DAYLIGHT
BEGIN:STANDARD
TZOFFSETFROM:-0700
TZOFFSETTO:-0800
TZNAME:PST
DTSTART:20241103T090000
END:STANDARD
END:VTIMEZONE
BEGIN:VEVENT
DTSTART;TZID=America/Los_Angeles:20230728T193000
DTEND;TZID=America/Los_Angeles:20230728T193000
DTSTAMP:20260421T013701
CREATED:20230511T190544Z
LAST-MODIFIED:20230713T231254Z
UID:10000412-1690572600-1690572600@grandvision.org
SUMMARY:Running Scared Productions ROY ORBISON RETURNS
DESCRIPTION:One Night\, back in 2004\, country western singer Wiley Ray was enticed into performing “Oh Pretty Woman” at a karaoke bar. When he finished\, he was treated to stunned silence and then thunderous applause. \nIt was fun\, but….Wiley Ray wanted to do more: reach more people\, touch more hearts\, keep Roy Orbison alive in the memories of all those who had loved his music for decades\, and introduce a new generation to Roy’s magic\, music\, and stage presence. To accomplish that\, ROY ORBISON RETURNS was realized – a fully-scripted musical theater re-creation of Roy Orbison’s 1980’s concert era years complete with costumes\, lighting\, and staging\, faithful to Orbison’s set lists and musical arrangements. \nHighlights of the concert include: “Only the Lonely”\, “Pretty Woman”\, “Crying”\, “Running Scared”\, “You Got it” and many more from Orbison’s canon of hits.  For a taste of the homage…pay to Roy Orbison\, please visit: https://www.youtube.com/watch?v=lYGPdgQr0wk.
URL:https://grandvision.org/event/running-scared-productions-presents-roy-orbison-returns/
LOCATION:Warner Grand Theatre\, 478 W. 6th St.\, San Pedro\, 90731
CATEGORIES:Featured Events,Warner Grand
ATTACH;FMTTYPE=image/png:https://grandvision.org/wp-content/uploads/2023/05/2023-Spring-PM-and-Website-Images-10.png
END:VEVENT
END:VCALENDAR