BEGIN:VCALENDAR
VERSION:2.0
PRODID:-//Grandvision.org - ECPv6.15.19//NONSGML v1.0//EN
CALSCALE:GREGORIAN
METHOD:PUBLISH
X-WR-CALNAME:Grandvision.org
X-ORIGINAL-URL:https://grandvision.org
X-WR-CALDESC:Events for Grandvision.org
REFRESH-INTERVAL;VALUE=DURATION:PT1H
X-Robots-Tag:noindex
X-PUBLISHED-TTL:PT1H
BEGIN:VTIMEZONE
TZID:America/Los_Angeles
BEGIN:DAYLIGHT
TZOFFSETFROM:-0800
TZOFFSETTO:-0700
TZNAME:PDT
DTSTART:20230312T100000
END:DAYLIGHT
BEGIN:STANDARD
TZOFFSETFROM:-0700
TZOFFSETTO:-0800
TZNAME:PST
DTSTART:20231105T090000
END:STANDARD
BEGIN:DAYLIGHT
TZOFFSETFROM:-0800
TZOFFSETTO:-0700
TZNAME:PDT
DTSTART:20240310T100000
END:DAYLIGHT
BEGIN:STANDARD
TZOFFSETFROM:-0700
TZOFFSETTO:-0800
TZNAME:PST
DTSTART:20241103T090000
END:STANDARD
BEGIN:DAYLIGHT
TZOFFSETFROM:-0800
TZOFFSETTO:-0700
TZNAME:PDT
DTSTART:20250309T100000
END:DAYLIGHT
BEGIN:STANDARD
TZOFFSETFROM:-0700
TZOFFSETTO:-0800
TZNAME:PST
DTSTART:20251102T090000
END:STANDARD
END:VTIMEZONE
BEGIN:VEVENT
DTSTART;TZID=America/Los_Angeles:20241109T200000
DTEND;TZID=America/Los_Angeles:20241109T200000
DTSTAMP:20260421T084751
CREATED:20240716T004650Z
LAST-MODIFIED:20241024T215318Z
UID:10000656-1731182400-1731182400@grandvision.org
SUMMARY:Taylor Made Tapestry James Taylor & Carole King
DESCRIPTION:This show is SOLD OUT! If you would like to be put on the waitlist\, please call the Annex at 310-833-4813. Placement on the waitlist does not guarantee a ticket.\n			\n				\n				\n				\n				\n				In November of 2007\, Carole King and James Taylor performed at the Troubadour in honor of its 50th anniversary. The concert was a reunion of the two artists\, who performed regularly together at the West Hollywood rock club in the early ‘70s. \n			\n			\n				\n				\n				\n				\n			\n				\n				\n				\n				\n				\n				\n				\n				\n				\n				\n				\n			\n			\n				\n				\n				\n				\n				\n				\n				\n				\n				\n				Honoring the legacy of both performers and their legendary musical collaboration\, Stephen Bock of the stellar James Taylor tribute band Taylor Made joins forces with Carla Buffa of the popular Southern California Carole King tribute band Sweet Seasons. \n			\n			\n				\n				\n				\n				\n			\n				\n				\n				\n				\n				\n				\n				\n				\n				\n				\n				This excellent group of musicians faithfully pays tribute to these iconic artists with outstanding accuracy and attention to detail\, playing classics such as “Fire and Rain\,” “It’s Too Late\,” “Carolina in My Mind\,” “So Far Away\,” Your Smiling Face\,” “I Feel the Earth Move\,” “Shower the People\,” “Jazzman\,” “You’ve Got a Friend” and “Locomotion.” \nCarole King has been inducted into the Songwriters Hall of Fame and the Rock and Roll Hall of Fame. She wrote several Top Ten hits for various groups with her partner and husband Gerry Goffin during the ’60s\, and in 1971\, her Tapestry album became the top-selling pop solo album ever and held that position until Michael Jackson’s Thriller in 1982. Over the course of her long career\, she penned over 400 songs that have been recorded by more than 1\,000 artists. \nJames Taylor rose to fame in the 1970s\, when he became known for writing and performing sensitive\, affecting songs. Over the course of a long-running career\, Taylor has won five Grammy Awards and is the first artist to have top 10 albums in each of the last six decades. He was inducted into the Rock and Roll Hall of Fame in 2000 and received a National Medal of the Arts in 2011. Taylor continues to be esteemed as a songwriter and performer whose work speaks to people’s inner emotional lives. \nCome and celebrate the music of two of the most renowned pop artists of our generation with Taylor Made Tapestry\, a Tribute to Carole King & James Taylor.
URL:https://grandvision.org/event/taylor-made-tapestry-james-taylor-carole-king/
LOCATION:The Grand Annex\, 434 W. 6th St.\, San Pedro\, CA\, 90731
CATEGORIES:Featured Events,Grand Vision Season,The Grand Annex
ATTACH;FMTTYPE=image/png:https://grandvision.org/wp-content/uploads/2024/07/Taylor-Made-Tapestry-2.png
END:VEVENT
BEGIN:VEVENT
DTSTART;TZID=America/Los_Angeles:20241114T190000
DTEND;TZID=America/Los_Angeles:20241114T210000
DTSTAMP:20260421T084751
CREATED:20240731T191514Z
LAST-MODIFIED:20240903T201304Z
UID:10000394-1731610800-1731618000@grandvision.org
SUMMARY:OPEN MIC NIGHTMonthly\, Every 2nd Thursday
DESCRIPTION:Starting 10/10/24 we will no longer be able to offer a bar ticket with admission.\nThank you for your continued support of Open Mic!\n\nMusicians & Poets!\n\nCome on down to the Grand Annex on the second Thursday of each month for Open Mic Night!\n\nTo perform:\n\nSign up at 6:30 PM. The first 12 sign-ups are guaranteed to perform\, with additional artists as time allows.\nPlan to do 2 songs/poems (limit stage time to under 8 minutes).\nThis is an all ages show\, all ages and genres are welcome to perform.\nTo keep the space welcoming for all ages; please keep your act clean and appropriate for all ages. Avoid rants\, blue comedy and punching down. Inappropriate acts will be removed from the stage and banned from future performances.\nMicrophones\, D.I.\, music stand and keyboard available. You can use the aux cord to connect your smartphone if you will be performing with a backing track. The Aux cord is compatible with Apple devices that use a lighting connector.\n\n\n\n\nHosted by: Ken Creighton\, Andrew Aragon and Taran Schindler.
URL:https://grandvision.org/event/open-mic-night-11-2/2024-11-14/
LOCATION:The Grand Annex\, 434 W. 6th St.\, San Pedro\, CA\, 90731
CATEGORIES:Featured Events,Open Mic
ATTACH;FMTTYPE=image/png:https://grandvision.org/wp-content/uploads/2023/03/2023-Spring-PM-and-Website-Images.png
END:VEVENT
BEGIN:VEVENT
DTSTART;TZID=America/Los_Angeles:20241116T200000
DTEND;TZID=America/Los_Angeles:20241116T200000
DTSTAMP:20260421T084751
CREATED:20240701T193911Z
LAST-MODIFIED:20241017T221618Z
UID:10000635-1731787200-1731787200@grandvision.org
SUMMARY:Windy Sings Whitney & Wine Tasting🍷
DESCRIPTION:Chicago native and our very own San Pedro local\, Windy Barnes returns to the Annex to grace the stage with the music of Whitney Houston\, followed by a full set of some of the best songs of the 1970s. \nWindy’s luxurious vocals move effortlessly from jazz to pop to R&B and gospel. \n			\n			\n				\n				\n				\n				\n			\n				\n				\n				\n				\n				\n				\n				\n				\n				\n				\n				She has toured extensively with Julio Iglesias\, Stevie Wonder and Michael Bolton and performed solo at the Jazz at Lincoln Center in NYC\, Bach Dancing and Dynamite Society in Half Moon Bay\, and Yoshi’s in Oakland\, CA with the Azar Lawrence Experience. Windy has attracted fans worldwide\, especially in Japan\, China and Southeast Asia. In both 2016 and 2018\, she headlined the Dakar Gorrée jazz festival in Senegal. \nHere in San Pedro\, she has performed at the Annex as well as at Alvas Showroom and the legendary Vanderlip Estates. Windy headlined and produced the 2023 San Pedro Music Festival at the Warner Grand Theatre and this year will bring her festival to Brouwerij West in San Pedro on September 14. Windy is also a proud Arts United San Pedro partner. \nLast fall\, she premiered her one-woman show “Secrets of Shady” at the Grand Annex Music Hall and is presently writing her first novel based on the play with co-writer\, Carla DuPree Clark. \n			\n			\n				\n				\n				\n				\n			\n				\n				\n				\n				\n				\n				\n				\n				\n				\n				\n				🍷Pre-Concert Wine TastingTaste fine wines. Wine Tastings are led by professional sommelier\, Jean-Philippe Molinari. \nPre-Concert Wine Tastings are free to Grand Vision members at the Friend\, Champion\, VIP Circle\, Arts Advocate\, and Performing Arts Patron level – up to two per household\, $16 per person for all others. Concert tickets are required to participate. Members’ tasting tickets must be redeemed in advance. Tastings begin one hour before the show\, please arrive no later than 30 minutes into the tasting to participate.
URL:https://grandvision.org/event/windy-sings-whitney/
LOCATION:The Grand Annex\, 434 W. 6th St.\, San Pedro\, CA\, 90731
CATEGORIES:Featured Events,Grand Vision Season,The Grand Annex
ATTACH;FMTTYPE=image/png:https://grandvision.org/wp-content/uploads/2024/07/Windy-Sings-Whitney-1.png
END:VEVENT
BEGIN:VEVENT
DTSTART;TZID=America/Los_Angeles:20241122T200000
DTEND;TZID=America/Los_Angeles:20241122T200000
DTSTAMP:20260421T084751
CREATED:20241010T011345Z
LAST-MODIFIED:20241114T212154Z
UID:10000671-1732305600-1732305600@grandvision.org
SUMMARY:Zepparella
DESCRIPTION:This show is SOLD OUT! If you would like to be put on the waitlist\, please call the Annex at 310-833-4813. Placement on the waitlist does not guarantee a ticket.\n​ \n			\n			\n				\n				\n				\n				\n			\n				\n				\n				\n				\n				\n				\n				\n				\n				\n				\n				\n			\n			\n				\n				\n				\n				\n				\n				\n				\n				\n				\n				Experience the classic rock of Led Zeppelin in the intimate setting of the Grand Annex. “To be able to get swallowed up by these songs in a smaller venue is where the power is\,” says Clementine\, Zepparella’s founder and drummer. \nHear favorites like “Dazed and Confused” and “Whole Lotta Love” and less often covered songs like “The Rover.” \n			\n			\n				\n				\n				\n				\n			\n				\n				\n				\n				\n				\n				\n				\n				\n				\n				\n				Zepparella is the all-female Led Zeppelin powerhouse band. Lead vocalist Anna Kristina\, guitarist Gretchen Menn\, bassist Holly West and drummer Clementine have brought their passion for the greatest rock music to venues all over the globe. Zepparella shows replicate the nuance and detail of Zeppelin’s catalog while honoring the powerful improvisational journeys for which Zeppelin shows were renowned.
URL:https://grandvision.org/event/zepparella/
LOCATION:The Grand Annex\, 434 W. 6th St.\, San Pedro\, CA\, 90731
CATEGORIES:Featured Events,Grand Vision Season,The Grand Annex
ATTACH;FMTTYPE=image/png:https://grandvision.org/wp-content/uploads/2024/10/24-Spring-Website-Image.png
END:VEVENT
BEGIN:VEVENT
DTSTART;TZID=America/Los_Angeles:20241123T200000
DTEND;TZID=America/Los_Angeles:20241123T200000
DTSTAMP:20260421T084751
CREATED:20240716T004436Z
LAST-MODIFIED:20241118T192027Z
UID:10000653-1732392000-1732392000@grandvision.org
SUMMARY:Kyshona with opener by Joselyn & Don
DESCRIPTION:Hear this rising acoustic and blues star whose socially conscious and emotional lyrics make her music as relevant as ever. Her poignant songwriting is comparable to Joan Baez and her powerful voice is reminiscent of Etta James. At the Annex\, Kyshona will perform as a trio with singers Nickie Conley and Jannelle Means. \n			\n			\n				\n				\n				\n				\n			\n				\n				\n				\n				\n				\n				\n				\n				\n				\n				\n				Kyshona blends blues\, soul\, rock and folk to express uplifting themes of hope and empowerment. She began writing songs as a music therapist and remains active in spreading the healing power of song. \nEarlier this year\, Kyshona released the album Legacy which includes the gospel roots track “Waitin’ on the Lawd\,” featuring Grand Annex favorite\, Chris Pierce! The Boston Globe and The Tennessean have praised how Legacy plays with genres originating in early African American history to honor Kyshona’s ancestors. \n			\n			\n				\n				\n				\n				\n			\n				\n				\n				\n				\n				\n				\n				\n				\n				\n				\n				\n			\n			\n				\n				\n				\n				\n				\n				\n				\n				\n				\n				Opener by Joselyn & Don / 8 PM\nFolk-Americana duo Joselyn & Don will be opening the show! Montana natives turned Angelenos\, Joselyn Wilkinson (vocals/ukulele) and Don Barrozo (guitar) craft warm\, authentic music deeply rooted in their Western heritage. Their new single “Choose Love” also features Grand Annex fav\, Chris Pierce. Listen to their song “Workin the Hi-Line\,” a tribute to Don’s father.
URL:https://grandvision.org/event/kyshona/
LOCATION:The Grand Annex\, 434 W. 6th St.\, San Pedro\, CA\, 90731
CATEGORIES:Featured Events,Grand Vision Season,The Grand Annex
ATTACH;FMTTYPE=image/png:https://grandvision.org/wp-content/uploads/2024/07/24-Fall-Website-Image-1-2.png
END:VEVENT
BEGIN:VEVENT
DTSTART;TZID=America/Los_Angeles:20241130T190000
DTEND;TZID=America/Los_Angeles:20241130T190000
DTSTAMP:20260421T084751
CREATED:20241122T193655Z
LAST-MODIFIED:20241126T175116Z
UID:10000682-1732993200-1732993200@grandvision.org
SUMMARY:Beautiful I Am pres. Saturday Live Music
DESCRIPTION:Celebrate the start of the holiday season delightfully! Following a day of feasting on turkey and shopping\, come and enjoy an evening of smooth jazz and R&B with us. Delight in tasty treats crafted by Chef JD. All funds raised will go towards supporting the Doing “A’ Ok and the Beautiful I Am Foundation. \nThis event is organized by the Beautiful I Am Foundation.\nPlease contact the event organizer with all questions.
URL:https://grandvision.org/event/beautiful-i-am-pres-saturday-live-music/
LOCATION:The Grand Annex\, 434 W. 6th St.\, San Pedro\, CA\, 90731
CATEGORIES:Featured Events,The Grand Annex
ATTACH;FMTTYPE=image/png:https://grandvision.org/wp-content/uploads/2024/11/24-Fall-Website-Image-2.png
ORGANIZER;CN="Beautiful I Am Foundation":MAILTO:beautifuliam2014@yahoo.com
END:VEVENT
END:VCALENDAR