BEGIN:VCALENDAR
VERSION:2.0
PRODID:-//Grandvision.org - ECPv6.15.19//NONSGML v1.0//EN
CALSCALE:GREGORIAN
METHOD:PUBLISH
X-WR-CALNAME:Grandvision.org
X-ORIGINAL-URL:https://grandvision.org
X-WR-CALDESC:Events for Grandvision.org
REFRESH-INTERVAL;VALUE=DURATION:PT1H
X-Robots-Tag:noindex
X-PUBLISHED-TTL:PT1H
BEGIN:VTIMEZONE
TZID:America/Los_Angeles
BEGIN:DAYLIGHT
TZOFFSETFROM:-0800
TZOFFSETTO:-0700
TZNAME:PDT
DTSTART:20210314T100000
END:DAYLIGHT
BEGIN:STANDARD
TZOFFSETFROM:-0700
TZOFFSETTO:-0800
TZNAME:PST
DTSTART:20211107T090000
END:STANDARD
BEGIN:DAYLIGHT
TZOFFSETFROM:-0800
TZOFFSETTO:-0700
TZNAME:PDT
DTSTART:20220313T100000
END:DAYLIGHT
BEGIN:STANDARD
TZOFFSETFROM:-0700
TZOFFSETTO:-0800
TZNAME:PST
DTSTART:20221106T090000
END:STANDARD
BEGIN:DAYLIGHT
TZOFFSETFROM:-0800
TZOFFSETTO:-0700
TZNAME:PDT
DTSTART:20230312T100000
END:DAYLIGHT
BEGIN:STANDARD
TZOFFSETFROM:-0700
TZOFFSETTO:-0800
TZNAME:PST
DTSTART:20231105T090000
END:STANDARD
END:VTIMEZONE
BEGIN:VEVENT
DTSTART;VALUE=DATE:20221117
DTEND;VALUE=DATE:20221210
DTSTAMP:20260424T044449
CREATED:20220621T224201Z
LAST-MODIFIED:20221101T010216Z
UID:10000243-1668643200-1670630399@grandvision.org
SUMMARY:House of Bards presentsGeorge Orwell's 1984
DESCRIPTION:The House of Bards Theatre Company presents the authorized stage adaptation of George Orwell’s 1984. Directed by Renee O’Connor. \nA play based on the dystopian 1949 novel\, today more relevant than ever. Multiple performances. Details below. \nFounded in 2019 by O’Connor\, the House of Bards Theatre Company opened in San Pedro at the Grand Annex with an intimate version of Shakespeare’s Macbeth. The production received rave reviews for their unique and powerful portrayal of the three Weird Sister characters. \nActor/director/filmmaker Renee O’Connor is best known for playing Gabrielle\, Xena’s trusted sidekick on the popular series Xena: Warrior Princess from 1996-2001 as well as other film\, television and stage roles. \nEvening Performances 7:30PM \nThursday 11/17/2022\nFriday 11/18/2022\nSaturday 11/19/2022\nSaturday 11/26/2022\nFriday 12/2/2022\nSaturday 12/3/2022 \nMatinee Performances 2:00PM\nSunday 11/20/2022\nSunday 11/27/2022 \nCovid-19 Safety at the Grand Annex\nAs of 3/25/22 Masks are strongly recommended for all\, we ask that those who have not been vaccinated wear masks. \n 
URL:https://grandvision.org/event/house-of-bards-presentsgeorge-orwells-1984/
LOCATION:The Grand Annex\, 434 W. 6th St.\, San Pedro\, CA\, 90731
CATEGORIES:Featured Events,The Grand Annex,Theatre
ATTACH;FMTTYPE=image/png:https://grandvision.org/wp-content/uploads/2022/06/Website-Event-Image.png
ORGANIZER;CN="House of Bards Theatre Company":MAILTO:info@HouseofBards.org
END:VEVENT
BEGIN:VEVENT
DTSTART;TZID=America/Los_Angeles:20221204T193000
DTEND;TZID=America/Los_Angeles:20221204T193000
DTSTAMP:20260424T044449
CREATED:20220604T150011Z
LAST-MODIFIED:20221130T004139Z
UID:10000231-1670182200-1670182200@grandvision.org
SUMMARY:The Fire's Very Scottish Christmas
DESCRIPTION:Tickets are sold out for this show. \nCalifornia’s favorite Scottish music trio returns to the Annex with their Very Scottish Christmas. \nEnjoy David Brewer’s unparalleled mastery of the Great Highland Bagpipe\, Rebecca Lomnicky’s internationally awarded Scottish fiddling\, and Adam Hendey’s warm-emotive voice over a lush foundation of guitar and reed organ. The Fire’s Very Scottish Christmas showcases Scottish and Irish dance and seasonal folk ballads dating back to the 1300s alongside beloved holiday favorites. \n 
URL:https://grandvision.org/event/the-fire-scottish-christmas/
LOCATION:The Grand Annex\, 434 W. 6th St.\, San Pedro\, CA\, 90731
CATEGORIES:Celtic,Concert,Dance,Featured Events,Grand Vision Season,The Grand Annex
ATTACH;FMTTYPE=image/jpeg:https://grandvision.org/wp-content/uploads/2022/06/FIRE-RED-PM.jpg
END:VEVENT
BEGIN:VEVENT
DTSTART;TZID=America/Los_Angeles:20221208T190000
DTEND;TZID=America/Los_Angeles:20221208T210000
DTSTAMP:20260424T044449
CREATED:20220615T193644Z
LAST-MODIFIED:20221109T204821Z
UID:10000241-1670526000-1670533200@grandvision.org
SUMMARY:Open Mic Night
DESCRIPTION:Acoustic Singers\, Singer-Songwriters\, & Poets!\n\nCome on down to the Grand Annex on the second Thursday of each month for Open Mic Night!\n\nTo perform:\n\nSign up at 6:30pm. The first 12 sign-ups are guaranteed to perform\, with additional artists as time allows.\nPlan to do 2 songs/poems (limit stage time to under 8 minutes).\nThis is an all ages show\, all ages and genres are welcome to perform.\nTo keep the space welcoming for all ages; please keep your act clean and appropriate for all ages. Avoid rants\, blue comedy and punching down.\nMicrophones\, D.I. and keyboard available. You can use the aux cord to connect your smartphone if you will be performing with a backing track. The Aux cord is compatible with apple devices that use a lighting connector.\n\n\n\nInappropriate acts will be removed from the stage and banned from future performances.\n\nCover $5 cash\, $6.25 card. Cover charge includes one bar ticket for a beer/wine or soft drink & snack. All ages are welcome.\n\nHosted by: Ken Creighton\, Andrew Aragon and Taran Schindler. For more information\, contact Andrew@GrandVision.org.\n\n\nCovid-19 Safety at the Grand Annex\nAs of 3/25/22 Masks are strongly recommended for all\, we ask that those who have not been vaccinated wear masks.
URL:https://grandvision.org/event/open-mic-night-4/
LOCATION:The Grand Annex\, 434 W. 6th St.\, San Pedro\, CA\, 90731
CATEGORIES:Featured Events,Open Mic,The Grand Annex
ATTACH;FMTTYPE=image/png:https://grandvision.org/wp-content/uploads/2021/11/2022-Fall-Website-Images-12.png
END:VEVENT
BEGIN:VEVENT
DTSTART;VALUE=DATE:20221209
DTEND;VALUE=DATE:20221212
DTSTAMP:20260424T044449
CREATED:20220830T011603Z
LAST-MODIFIED:20221005T165308Z
UID:10000264-1670544000-1670803199@grandvision.org
SUMMARY:San Pedro City Ballet presentsThe Nutcracker
DESCRIPTION:San Pedro City Ballet returns with this timeless holiday classic fairytale ballet\, featuring professionals and young dancers from the company and cameos by some of your favorite community members! \nShow Times:  \nFriday\, December 9 7pm\, \nSaturday\, December 10 2pm and 7pm\, \nSunday\, December 11 2pm \n  \nAt the Warner Grand Theatre as of August 11\, 2022: \n\nThose who are 12 years and older must present printed or digital proof of full vaccination\, OR printed or digital proof of a negative Covid-19 test result issued within the previous 72 hours.\nAll entrants 2 years and older must wear face masks while inside the theatre unless performing on stage or eating/drinking at their assigned seat.\n\nThe Covid-19 rules are in flux. Please contact the Warner Grand Theatre at 310-548-2493 or the organizer of the event to check the rules before attending. Thank you. \n 
URL:https://grandvision.org/event/san-pedro-city-ballet-presentsthe-nutcracker/
LOCATION:Warner Grand Theatre\, 478 W. 6th St.\, San Pedro\, 90731
CATEGORIES:Dance,Featured Events,Theatre,Warner Grand
ATTACH;FMTTYPE=image/jpeg:https://grandvision.org/wp-content/uploads/2021/08/WP-WGT-NUTCRACKER-2021.jpg
ORGANIZER;CN="San Pedro City Ballet":MAILTO:info@sanpedrocityballet.org
END:VEVENT
BEGIN:VEVENT
DTSTART;TZID=America/Los_Angeles:20221211T130000
DTEND;TZID=America/Los_Angeles:20221211T170000
DTSTAMP:20260424T044449
CREATED:20221112T010351Z
LAST-MODIFIED:20221117T234718Z
UID:10000285-1670763600-1670778000@grandvision.org
SUMMARY:Raq in the Holidays
DESCRIPTION:Raq in the Holidays: An Afternoon Christmas Bellydance Extravaganza! Starring the 2022 Bellydancer of the Universe Global & Regional Champions! Seating first come first served. $20 cash at the door. Doors open at 1:00pm day of show. \n 
URL:https://grandvision.org/event/bellydancer-of-the-universe-raq-in-the-holidays/
LOCATION:The Grand Annex\, 434 W. 6th St.\, San Pedro\, CA\, 90731
CATEGORIES:Dance,Featured Events,The Grand Annex
ATTACH;FMTTYPE=image/png:https://grandvision.org/wp-content/uploads/2022/11/Website-Event-Image-3.png
ORGANIZER;CN="Bellydancer of the Universe":MAILTO:BDUCVideos@gmail.com
END:VEVENT
BEGIN:VEVENT
DTSTART;TZID=America/Los_Angeles:20221217T200000
DTEND;TZID=America/Los_Angeles:20221217T200000
DTSTAMP:20260424T044449
CREATED:20220830T011849Z
LAST-MODIFIED:20221215T172517Z
UID:10000265-1671307200-1671307200@grandvision.org
SUMMARY:Golden State Pops Orchestra A Holiday POPS Spectacular
DESCRIPTION:Golden State Pops Orchestra celebrates its 20th anniversary with one of the South Bay holiday season’s most eagerly anticipated events\, featuring guest artists and the Golden State Pops Chorale. Sing along to your favorite holiday movie tunes\, classical pieces and Christmas hymns. \n  \nAt the Warner Grand Theatre as of August 11\, 2022: \n\nThose who are 12 years and older must present printed or digital proof of full vaccination\, OR printed or digital proof of a negative Covid-19 test result issued within the previous 72 hours.\nAll entrants 2 years and older must wear face masks while inside the theatre unless performing on stage or eating/drinking at their assigned seat.\n\nThe Covid-19 rules are in flux. Please contact the Warner Grand Theatre at 310-548-2493 or the organizer of the event to check the rules before attending. Thank you. \n 
URL:https://grandvision.org/event/golden-state-pops-orchestraa-holiday-pops-spectacular/
LOCATION:Warner Grand Theatre\, 478 W. 6th St.\, San Pedro\, 90731
CATEGORIES:Classical,Concert,Featured Events,Warner Grand
ATTACH;FMTTYPE=image/jpeg:https://grandvision.org/wp-content/uploads/2021/08/WP-WGT-GSPO-2021.jpg
ORGANIZER;CN="Golden State Pops":MAILTO:tickets@gspo.com
END:VEVENT
BEGIN:VEVENT
DTSTART;TZID=America/Los_Angeles:20221223T190000
DTEND;TZID=America/Los_Angeles:20221223T190000
DTSTAMP:20260424T044449
CREATED:20220830T012127Z
LAST-MODIFIED:20221219T203326Z
UID:10000266-1671822000-1671822000@grandvision.org
SUMMARY:SPIFF presents It's A Wonderful Life (1946)
DESCRIPTION:Join us at the historic Warner Grand Theatre for this holiday classic and see Frank Capra’s little film that could. \nIt’s A Wonderful Life\nFrank Capra\n1946 Drama/Fantasy 2h 10m \nIt’s a Wonderful Life is a 1946 American Christmas family fantasy drama film produced and directed by Frank Capra\, based on the short story and booklet The Greatest Gift\, which Philip Van Doren Stern self-published in 1943 and is in turn loosely based on the 1843 Charles Dickens novella A Christmas Carol.The film stars James Stewart as George Bailey\, a man who has given up his personal dreams\, in order to help others in his community\, and whose suicide attempt on Christmas Eve brings about the intervention of his guardian angel\, Clarence Odbody (Henry Travers). Clarence shows George how he\, George\, has touched the lives of others and how different life would be for his wife Mary and his community of Bedford Falls if he had not been born. \nSanta will be there too at 6pm! \n  \nAt the Warner Grand Theatre as of December 16\, 2022: \nProof of full COVID-19 vaccination OR a negative test result within 72 hours of your show is required at the Warner Grand Theatre by the City of Los Angeles. Masks are suggested but are not required. \nThe Covid-19 rules are designated by the City of Los Angeles Department of Cultural Affairs and are in flux. Please contact the Warner Grand Theatre at 310-548-2493 or the organizer of the event to check the rules before attending. Thank you. \n 
URL:https://grandvision.org/event/spiff-presentsits-a-wonderful-life-1946/
LOCATION:Warner Grand Theatre\, 478 W. 6th St.\, San Pedro\, 90731
CATEGORIES:Featured Events,Film,Warner Grand
ATTACH;FMTTYPE=image/jpeg:https://grandvision.org/wp-content/uploads/2021/11/Website-Event-Featured-Image.jpg
END:VEVENT
BEGIN:VEVENT
DTSTART;TZID=America/Los_Angeles:20221231T203000
DTEND;TZID=America/Los_Angeles:20221231T203000
DTSTAMP:20260424T044449
CREATED:20220805T183446Z
LAST-MODIFIED:20221227T173713Z
UID:10000258-1672518600-1672518600@grandvision.org
SUMMARY:Andy & Renee & Hard Rain New Years Party Concert!
DESCRIPTION:SOLD OUT!  \nSouthbay favorite folk-rockers return to the Annex to ring in the New Year! Celebrate the New Year on the dance floor while the band delivers hits from across the decades. Your ticket includes late-night pizza\, party favors\, and a champagne toast to welcome in 2023! \nCovid-19 Safety at the Grand Annex\nAs of 3/25/22 Masks are strongly recommended for all\, we ask that those who have not been vaccinated wear masks.
URL:https://grandvision.org/event/andy-renee-hard-rainnew-years-party-concert-2/
LOCATION:The Grand Annex\, 434 W. 6th St.\, San Pedro\, CA\, 90731
CATEGORIES:Concert,Featured Events,Grand Vision Season,Pop,Rock,The Grand Annex
ATTACH;FMTTYPE=image/png:https://grandvision.org/wp-content/uploads/2022/08/Andy-Renee-New-Years-Flyer-510-×-287-px.png
END:VEVENT
END:VCALENDAR