BEGIN:VCALENDAR
VERSION:2.0
PRODID:-//Grandvision.org - ECPv6.15.19//NONSGML v1.0//EN
CALSCALE:GREGORIAN
METHOD:PUBLISH
X-WR-CALNAME:Grandvision.org
X-ORIGINAL-URL:https://grandvision.org
X-WR-CALDESC:Events for Grandvision.org
REFRESH-INTERVAL;VALUE=DURATION:PT1H
X-Robots-Tag:noindex
X-PUBLISHED-TTL:PT1H
BEGIN:VTIMEZONE
TZID:America/Los_Angeles
BEGIN:DAYLIGHT
TZOFFSETFROM:-0800
TZOFFSETTO:-0700
TZNAME:PDT
DTSTART:20250309T100000
END:DAYLIGHT
BEGIN:STANDARD
TZOFFSETFROM:-0700
TZOFFSETTO:-0800
TZNAME:PST
DTSTART:20251102T090000
END:STANDARD
BEGIN:DAYLIGHT
TZOFFSETFROM:-0800
TZOFFSETTO:-0700
TZNAME:PDT
DTSTART:20260308T100000
END:DAYLIGHT
BEGIN:STANDARD
TZOFFSETFROM:-0700
TZOFFSETTO:-0800
TZNAME:PST
DTSTART:20261101T090000
END:STANDARD
BEGIN:DAYLIGHT
TZOFFSETFROM:-0800
TZOFFSETTO:-0700
TZNAME:PDT
DTSTART:20270314T100000
END:DAYLIGHT
BEGIN:STANDARD
TZOFFSETFROM:-0700
TZOFFSETTO:-0800
TZNAME:PST
DTSTART:20271107T090000
END:STANDARD
END:VTIMEZONE
BEGIN:VEVENT
DTSTART;TZID=America/Los_Angeles:20260222T150000
DTEND;TZID=America/Los_Angeles:20260222T150000
DTSTAMP:20260421T131233
CREATED:20251030T181716Z
LAST-MODIFIED:20260222T195849Z
UID:10000864-1771772400-1771772400@grandvision.org
SUMMARY:Strings Chamber Ensemble Series "Valentine's Concert"
DESCRIPTION:Advance Ticket sales will close at 1:00 PM. Ticket will be available at the door\, $30.00 cash or card. Doors open at 2:00.  \nCelebrate the season of romance with a selection of timeless pieces that capture the beauty and emotion of love in all forms. Classical selections include “Andante Cantabile” by Tchaikovsky\, “String Quartet No. 2” by Alexander Borodin and “Rosamunde Second Movement” by Franz Schubert. The “pop strings” section will include “Love & Marriage\,” “A Whole New World” and “Sweet Child O’ Mine.” Arrangements by Shura Sasaki. \nEnsemble Members (pictured from left to right): \nShura Sasaki: concertmasterKirika Suzuki: violinJessica Greenly: celloWalter Park: viola \nStrings Chamber Ensemble Concert Series: \n\nSunday\, January 18 at 3 PM “From Classical to Pop”\nSunday\, February 22 at 3 PM “Valentine’s Concert”\nand future dates\n\nThanks to Bravo! Music School & Grand Vision Foundation for co-sponsoring this series.
URL:https://grandvision.org/event/strings-chamber-ensemble-series-endless-love/
LOCATION:The Grand Annex\, 434 W. 6th St.\, San Pedro\, CA\, 90731
CATEGORIES:Featured Events,Grand Vision Season,The Grand Annex
ATTACH;FMTTYPE=image/png:https://grandvision.org/wp-content/uploads/2025/10/Strings-1.png
END:VEVENT
END:VCALENDAR