BEGIN:VCALENDAR
VERSION:2.0
PRODID:-//Grandvision.org - ECPv6.15.19//NONSGML v1.0//EN
CALSCALE:GREGORIAN
METHOD:PUBLISH
X-WR-CALNAME:Grandvision.org
X-ORIGINAL-URL:https://grandvision.org
X-WR-CALDESC:Events for Grandvision.org
REFRESH-INTERVAL;VALUE=DURATION:PT1H
X-Robots-Tag:noindex
X-PUBLISHED-TTL:PT1H
BEGIN:VTIMEZONE
TZID:America/Los_Angeles
BEGIN:DAYLIGHT
TZOFFSETFROM:-0800
TZOFFSETTO:-0700
TZNAME:PDT
DTSTART:20250309T100000
END:DAYLIGHT
BEGIN:STANDARD
TZOFFSETFROM:-0700
TZOFFSETTO:-0800
TZNAME:PST
DTSTART:20251102T090000
END:STANDARD
BEGIN:DAYLIGHT
TZOFFSETFROM:-0800
TZOFFSETTO:-0700
TZNAME:PDT
DTSTART:20260308T100000
END:DAYLIGHT
BEGIN:STANDARD
TZOFFSETFROM:-0700
TZOFFSETTO:-0800
TZNAME:PST
DTSTART:20261101T090000
END:STANDARD
BEGIN:DAYLIGHT
TZOFFSETFROM:-0800
TZOFFSETTO:-0700
TZNAME:PDT
DTSTART:20270314T100000
END:DAYLIGHT
BEGIN:STANDARD
TZOFFSETFROM:-0700
TZOFFSETTO:-0800
TZNAME:PST
DTSTART:20271107T090000
END:STANDARD
END:VTIMEZONE
BEGIN:VEVENT
DTSTART;TZID=America/Los_Angeles:20260202T190000
DTEND;TZID=America/Los_Angeles:20260202T200000
DTSTAMP:20260425T191809
CREATED:20251223T193141Z
LAST-MODIFIED:20260130T233732Z
UID:10000902-1770058800-1770062400@grandvision.org
SUMMARY:FREE Intro to Team Taiko & Japanese Drum Care
DESCRIPTION:Learn about Taiko and how to care for Taiko drums and bachi (drumsticks) and how to make a practice drum in this introductory session. \nIf you wish to make your own practice drum\, please bring a bucket (5-gallon or larger). All other supplies will be provided. \nIf you have your own bachi or drum that you would like to perform maintenance on\, please bring it with you. \nWe believe in creating unique opportunities for people to meet their neighbors and engage in their community in a new way. Come play with us! \nTaiko is a Japanese traditional drumming practice that\, over the last several decades\, has become a global phenomenon. Since 2013\, Grand Vision has partnered with leading taiko instructors to bring the art form to the South Bay. \nTaiko Artist Man Man Mui guides participants toward a repertoire of drumming techniques and patterns. Sessions include developing rhythmic sensibility\, body awareness\, breath and strength training as students make music together as a team. \nTeam Taiko is open to all skill levels and abilities\, from beginners to seasoned musicians\, and fees are on a sliding scale. Recommended for ages 12 and up\, children must participate with a guardian or have a signed participation waiver. \n\n\n \n\n\nWinter Session Mondays at 6:30 PM February 9 – March 30: \nTeam Taiko classes are broken into 8-week sessions\, with a different pattern taught during each session. Team Taiko can be purchased by session or by class. \n\nMonday\, February 9 – 6:30 PM\nMonday\, February 16 – 6:30 PM\nMonday\, February 23 – 6:30 PM\nMonday\, March 2 – 6:30 PM\nMonday\, March 9 – 6:30 PM\nMonday\, March 16 – 6:30 PM\nMonday\, March 23 – 6:30 PM\nMonday\, March 30 – 6:30 PM
URL:https://grandvision.org/event/free-intro-to-team-taiko-japanese-drumming/
LOCATION:The Grand Annex\, 434 W. 6th St.\, San Pedro\, CA\, 90731
CATEGORIES:Class,Featured Events,Grand Vision Season,The Grand Annex
ATTACH;FMTTYPE=image/png:https://grandvision.org/wp-content/uploads/2024/06/24-Fall-Website-Image-3-1.png
END:VEVENT
BEGIN:VEVENT
DTSTART;TZID=America/Los_Angeles:20260205T170000
DTEND;TZID=America/Los_Angeles:20260205T203000
DTSTAMP:20260425T191809
CREATED:20251130T202122Z
LAST-MODIFIED:20260116T172346Z
UID:10000871-1770310800-1770323400@grandvision.org
SUMMARY:The Grand Annex Art Saloon
DESCRIPTION:Enjoy a laid-back First Thursday evening of music and art at the Grand Annex\, with your hosts\, local musicians Chris and Emily Huff. Featuring musicians from the San Pedro Musicians Directory and visual art presented by fINdings Art Center. \nFebruary featured Musicians: Chris and Emily Huff can be found around town harmonizing as a father-daughter duo or performing solo. Not only are they the Art Saloon Hosts\, they are the featured musicians for February’s Art Saloon! They are Known for their Texas-tinged Americana covers and originals\, you may have heard them around San Pedro – at the Lighthouse Cafe\, the old Sacred Grounds and at local festivals like Arts Open. \nFebruary featured Art Show: “Heavy&Real – Steel\, Clay and Timely Concerns” The Works of Joyce Kuhl and Larry Lubow\, curated by Henry Krusoe. \nLarry Lubow has dedicated himself to investigating the intersections between art\, design\, nature\, and architecture. A sculptor and collector\, he is an alum of Alfred University where he started creating art with clay and metal\, going on to showcase his creations in galleries and design showrooms worldwide. Most recently\, at Yard 227 and House 1002\, Larry merges design\, materials\, and vintage treasures to create new works. He is also a resident artist at Altasea\, a local non-profit dedicated to ocean research and climate-change mitigation. \nJoyce Kohl recently relocated her home and studio to San Pedro\, after losing both in the Eaton fire in Altadena. As a temporary resident of Angels Gate Cultural Center\, she is working on a steel and glass sculpture to be installed at the Claremont Metro Station. Joyce has previously completed other public art projects\, including a Fulbright Project in Zimbabwe\, where she collaborated with workers in a Ceramics factory to build a public sculpture related to the AIDS pandemic. Joyce received her Master’s Degree from Cal State Fullerton (where she first met Larry Lubow). She retired from teaching Ceramics at Cal State University\, Bakersfield\, shortly before the Eaton fire. \nHenry Krusoe is an Otis College graduate and has been an Angels Gate Cultural Center resident artist since 2019\, creating multimedia artwork spanning analog and digital formats. \nArt Saloon is presented in partnership with fINdings Art Center and Arts United. \nNo-host bar open. Outside food is welcome.
URL:https://grandvision.org/event/the-grand-annex-arts-saloon/
LOCATION:The Grand Annex\, 434 W. 6th St.\, San Pedro\, CA\, 90731
CATEGORIES:Arts Saloons,Featured Events,Grand Vision Season,The Grand Annex
ATTACH;FMTTYPE=image/png:https://grandvision.org/wp-content/uploads/2025/07/25-Fall-Website-Images-9.png
END:VEVENT
BEGIN:VEVENT
DTSTART;TZID=America/Los_Angeles:20260206T200000
DTEND;TZID=America/Los_Angeles:20260206T200000
DTSTAMP:20260425T191809
CREATED:20251214T014927Z
LAST-MODIFIED:20260214T015348Z
UID:10000877-1770408000-1770408000@grandvision.org
SUMMARY:Rose's Pawn Shop Opener: Pi Jacobs
DESCRIPTION:Advance online sales close at 3:30pm. General Admission Tickets available at the door\, $30 cash\, $35 card. Doors open at 7:00pm.  \nPreview Record Release Concert! Hear RPS play cuts from their new album\, American Seams. \nRose’s Pawn Shop is an acclaimed LA-based Americana band has honed their signature\, high-energy fusion of folk\, bluegrass\, and rock & roll. The fiercely independent quintet\, anchored by frontman Paul Givant’s sharp songwriting\, has released four studio albums—including their 2006 debut The Arsonist and 2023’s celebrated Punch-Drunk Life—with a fifth\, American Seams\, coming out this month. \n			\n			\n				\n				\n				\n				\n			\n				\n				\n				\n				\n				\n				\n				\n				\n				\n				\n				\n			\n			\n				\n				\n				\n				\n				\n				\n				\n				\n				\n				Opener Pi Jacobs draws inspiration from her unconventional upbringing in Northern California. Blending roots-rock swagger and storytelling soul\, her music has drawn comparisons to Tom Waits and Lucinda Williams. She has been highlighted in music magazines: Americana Highways and American Songwriter Magazine\, heard on NPR and Austin Music TV and regularly featured on tastemakers KCSN\, WFUV and stations across the nation.
URL:https://grandvision.org/event/roses-pawn-shop-3/
LOCATION:The Grand Annex\, 434 W. 6th St.\, San Pedro\, CA\, 90731
CATEGORIES:Featured Events,Grand Vision Season,The Grand Annex
ATTACH;FMTTYPE=image/png:https://grandvision.org/wp-content/uploads/2025/12/26-WS-Website-Images-2.png
END:VEVENT
BEGIN:VEVENT
DTSTART;TZID=America/Los_Angeles:20260213T200000
DTEND;TZID=America/Los_Angeles:20260213T200000
DTSTAMP:20260425T191809
CREATED:20251217T230152Z
LAST-MODIFIED:20260214T015534Z
UID:10000900-1771012800-1771012800@grandvision.org
SUMMARY:The Nightcaps "My Funny Valentine" Concert🍷
DESCRIPTION:Advance online sales are closed. Very limited General Admission Tickets available at the door\, $28 cash\, $32 card. Doors open at 7:00pm.  \nMark Kopitzke returns to the Grand Annex with his band\, The Nightcaps\, bringing warmth\, charm and effortless swing to a night dedicated to classic romance. \nThrough both music and storytelling\, the show catalogues the many chapters of love—the sparks and swoons\, the heartbreaks and hope\, the humor\, longing and joy that define the season of Valentine’s. The evening celebrates the golden age of jazz with beloved standards made famous by \n			\n			\n				\n				\n				\n				\n			\n				\n				\n				\n				\n				\n				\n				\n				\n				\n				\n				 singers like Nat King Cole\, Frank Sinatra and Ella Fitzgerald\, including favorites like “L-O-V-E\,” “Fever” and La Vie En Rose\,” alongside a few unexpected songs reimagined with a smooth\, jazzy twist. \n			\n			\n				\n				\n				\n				\n			\n				\n				\n				\n				\n				\n				\n				\n				\n				\n				\n				  \n🍷 Pre-Concert Wine Tastings Led by Sommelier Jean Phllippe Molinari: Free to Grand Vision members at the Friend\, Champion\, VIP Circle\, Arts Advocate\, and Performing Arts Patron level – up to two per household\, $16 per person for all others. Concert tickets are required to participate. Members’ tasting tickets must be redeemed in advance. Tastings begin one hour before the show\, please arrive no later than 30 minutes into the tasting to participate.
URL:https://grandvision.org/event/the-nightcaps-my-funny-valentine/
LOCATION:The Grand Annex\, 434 W. 6th St.\, San Pedro\, CA\, 90731
CATEGORIES:Featured Events,Grand Vision Season,The Grand Annex
ATTACH;FMTTYPE=image/png:https://grandvision.org/wp-content/uploads/2025/12/Quartet-Main-Image-White-Jacket-smiling-1L0A6624-Copy-web-size-take2.png
END:VEVENT
BEGIN:VEVENT
DTSTART;TZID=America/Los_Angeles:20260215T160000
DTEND;TZID=America/Los_Angeles:20260215T160000
DTSTAMP:20260425T191810
CREATED:20251214T015128Z
LAST-MODIFIED:20260214T020002Z
UID:10000884-1771171200-1771171200@grandvision.org
SUMMARY:Heart of Gold The Music of Neil Young
DESCRIPTION:This show is Sold Out! Doors open at 3:00pm\, Concert starts at 4:00pm. \nStep into the world of one of rock’s most iconic voices as Heart of Gold brings the timeless music of Neil Young to life. The performance will feature a complete live rendering of Neil’s legendary album\, Harvest\, followed by a journey through his greatest hits spanning decades of groundbreaking songwriting. Hear the rich authenticity and note-for-note guitar solos in classics like “Down by the River” and “Southern Man\,” delivered with the spirit of the two-time Rock and Roll Hall of Fame inductee himself. Devitt Feeley leads on vocals\, featuring Jim Wootten on bass and Rocky Fester on pedal steel guitar.
URL:https://grandvision.org/event/heart-of-gold-the-music-of-neil-young/
LOCATION:The Grand Annex\, 434 W. 6th St.\, San Pedro\, CA\, 90731
CATEGORIES:Featured Events,Grand Vision Season,The Grand Annex
ATTACH;FMTTYPE=image/png:https://grandvision.org/wp-content/uploads/2025/12/Heart-of-Gold-1.png
END:VEVENT
BEGIN:VEVENT
DTSTART;TZID=America/Los_Angeles:20260221T213000
DTEND;TZID=America/Los_Angeles:20260221T213000
DTSTAMP:20260425T191810
CREATED:20251215T174426Z
LAST-MODIFIED:20260127T222809Z
UID:10000883-1771709400-1771709400@grandvision.org
SUMMARY:Grand Annex Cumbia Night ft. Cara Borracho
DESCRIPTION:A night of irresistibly fun live music and dancing featuring DJ Nativity and the blazing 4-piece punk-cumbia band\, Cara Borracho. Ages 21 and up event. \nDJ Nativity’s set starts at 8:30 PM. The band will go on at 9:30 PM. \nOther Cumbia Night Dates: \n\nSaturday\, January 17\, Featuring Cello Azul\nSaturday\, March 21\, Featuring Maria Blues\nFriday\, May 29\, and more!\n\n			\n			\n				\n				\n				\n				\n			\n				\n				\n				\n				\n				\n				\n				\n				\n				\n				\n				Seating: \n\nGeneral admission is standing room only. While a limited number of chairs will be available in the general admission section\, you are not guaranteed a seat.\nTables will be marked with the name of your party and have 4 seats.
URL:https://grandvision.org/event/grand-annex-cumbia-night-2/
LOCATION:The Grand Annex\, 434 W. 6th St.\, San Pedro\, CA\, 90731
CATEGORIES:Featured Events,Grand Vision Season,The Grand Annex
ATTACH;FMTTYPE=image/png:https://grandvision.org/wp-content/uploads/2025/07/25-Fall-Website-Images-1-3.png
END:VEVENT
BEGIN:VEVENT
DTSTART;TZID=America/Los_Angeles:20260222T150000
DTEND;TZID=America/Los_Angeles:20260222T150000
DTSTAMP:20260425T191810
CREATED:20251030T181716Z
LAST-MODIFIED:20260222T195849Z
UID:10000864-1771772400-1771772400@grandvision.org
SUMMARY:Strings Chamber Ensemble Series "Valentine's Concert"
DESCRIPTION:Advance Ticket sales will close at 1:00 PM. Ticket will be available at the door\, $30.00 cash or card. Doors open at 2:00.  \nCelebrate the season of romance with a selection of timeless pieces that capture the beauty and emotion of love in all forms. Classical selections include “Andante Cantabile” by Tchaikovsky\, “String Quartet No. 2” by Alexander Borodin and “Rosamunde Second Movement” by Franz Schubert. The “pop strings” section will include “Love & Marriage\,” “A Whole New World” and “Sweet Child O’ Mine.” Arrangements by Shura Sasaki. \nEnsemble Members (pictured from left to right): \nShura Sasaki: concertmasterKirika Suzuki: violinJessica Greenly: celloWalter Park: viola \nStrings Chamber Ensemble Concert Series: \n\nSunday\, January 18 at 3 PM “From Classical to Pop”\nSunday\, February 22 at 3 PM “Valentine’s Concert”\nand future dates\n\nThanks to Bravo! Music School & Grand Vision Foundation for co-sponsoring this series.
URL:https://grandvision.org/event/strings-chamber-ensemble-series-endless-love/
LOCATION:The Grand Annex\, 434 W. 6th St.\, San Pedro\, CA\, 90731
CATEGORIES:Featured Events,Grand Vision Season,The Grand Annex
ATTACH;FMTTYPE=image/png:https://grandvision.org/wp-content/uploads/2025/10/Strings-1.png
END:VEVENT
BEGIN:VEVENT
DTSTART;TZID=America/Los_Angeles:20260228T200000
DTEND;TZID=America/Los_Angeles:20260228T200000
DTSTAMP:20260425T191810
CREATED:20251214T031533Z
LAST-MODIFIED:20260225T212216Z
UID:10000885-1772308800-1772308800@grandvision.org
SUMMARY:Shawn Jones Band
DESCRIPTION:Shawn Jones is a prolific Southern California-based singer\, songwriter\, and virtuoso guitarist whose three-decade career serves as a soulful bridge between blues\, rock\, and Americana. Discovered by country legend Waylon Jennings while playing a small Los Angeles club\, Jones was eventually recruited to play lead guitar for Jennings’ band on the 1996 Lollapalooza tour and appeared on his album Right for the Time. \n			\n			\n				\n				\n				\n				\n			\n				\n				\n				\n				\n				\n				\n				\n				\n				\n				\n				Over the years\, he has established himself as a respected independent force\, sharing stages with icons like B.B. King\, Buddy Guy\, and Bonnie Raitt\, while also spending ten years as the lead guitarist for Deana Carter. With a tireless touring schedule that sees him performing over 200 dates annually across the USA and Europe\, Jones continues to release acclaimed work\, including his recent album In My Blood (2024). \nShawn Jones: guitar\, vocalsHerman Matthews: drumsSam Bolle: bass\, backing VocalsMarc Hugenberger: keys
URL:https://grandvision.org/event/shawn-jones-band/
LOCATION:The Grand Annex\, 434 W. 6th St.\, San Pedro\, CA\, 90731
CATEGORIES:Featured Events,Grand Vision Season,The Grand Annex
ATTACH;FMTTYPE=image/png:https://grandvision.org/wp-content/uploads/2025/12/Shawn-Jones-Band-4.png
END:VEVENT
END:VCALENDAR