BEGIN:VCALENDAR
VERSION:2.0
PRODID:-//Grandvision.org - ECPv6.15.19//NONSGML v1.0//EN
CALSCALE:GREGORIAN
METHOD:PUBLISH
X-WR-CALNAME:Grandvision.org
X-ORIGINAL-URL:https://grandvision.org
X-WR-CALDESC:Events for Grandvision.org
REFRESH-INTERVAL;VALUE=DURATION:PT1H
X-Robots-Tag:noindex
X-PUBLISHED-TTL:PT1H
BEGIN:VTIMEZONE
TZID:America/Los_Angeles
BEGIN:DAYLIGHT
TZOFFSETFROM:-0800
TZOFFSETTO:-0700
TZNAME:PDT
DTSTART:20200308T100000
END:DAYLIGHT
BEGIN:STANDARD
TZOFFSETFROM:-0700
TZOFFSETTO:-0800
TZNAME:PST
DTSTART:20201101T090000
END:STANDARD
BEGIN:DAYLIGHT
TZOFFSETFROM:-0800
TZOFFSETTO:-0700
TZNAME:PDT
DTSTART:20210314T100000
END:DAYLIGHT
BEGIN:STANDARD
TZOFFSETFROM:-0700
TZOFFSETTO:-0800
TZNAME:PST
DTSTART:20211107T090000
END:STANDARD
BEGIN:DAYLIGHT
TZOFFSETFROM:-0800
TZOFFSETTO:-0700
TZNAME:PDT
DTSTART:20220313T100000
END:DAYLIGHT
BEGIN:STANDARD
TZOFFSETFROM:-0700
TZOFFSETTO:-0800
TZNAME:PST
DTSTART:20221106T090000
END:STANDARD
END:VTIMEZONE
BEGIN:VEVENT
DTSTART;TZID=America/Los_Angeles:20211114T200000
DTEND;TZID=America/Los_Angeles:20211114T200000
DTSTAMP:20260422T042004
CREATED:20210806T181610Z
LAST-MODIFIED:20211113T224213Z
UID:10000155-1636920000-1636920000@grandvision.org
SUMMARY:Martha Redbone
DESCRIPTION:Advance online and phone sales will close at 2:00pm on Sunday\, November 14. General Admission tickets are still available at the door. Doors open at 7:00pm. $28 cash\, $33 credit. \nNative and African American singer-songwriter and Independent Music Award winner delivers her powerful Harlan County\, Kentucky mix of folk\, roots and blues. \nMartha Redbone has garnered national attention with features on NPR’s All Things Considered\, NPR Tiny Desk Concerts; WNYC’s Soundcheck and New Sounds; and Sirius Satellite. She will play at the Annex with her trio. \n  \nGrand Annex Safety:\nGrand Annex attendees are required to show proof of full vaccination or a negative test taken within 72 hours at the door and wear a face mask when not eating or drinking.
URL:https://grandvision.org/event/martha-redbone/
LOCATION:The Grand Annex\, 434 W. 6th St.\, San Pedro\, CA\, 90731
CATEGORIES:Americana,Featured Events,The Grand Annex
ATTACH;FMTTYPE=image/jpeg:https://grandvision.org/wp-content/uploads/2021/08/GVF-MARTHAREDBONE-New.jpg
END:VEVENT
BEGIN:VEVENT
DTSTART;TZID=America/Los_Angeles:20211022T200000
DTEND;TZID=America/Los_Angeles:20211022T200000
DTSTAMP:20260422T042004
CREATED:20210806T190907Z
LAST-MODIFIED:20211022T183226Z
UID:10000160-1634932800-1634932800@grandvision.org
SUMMARY:Rose's Pawn Shop
DESCRIPTION:Modern alt-rock inspired by the sounds of old style Americana with an arsenal of guitars\, banjo\, upright bass\, fiddle and drums. A little like Mumford & Sons or Old Crow Medicine Show\, Grammy-nominated Rose’s Pawn Shop offers up some of the best heartfelt and authentic lyric-driven roots rock since The Band emerged from Bob Dylan’s basement. \nOpener: Herman Dune\, a stalwart of the early 21st century antifolk/punk-folk scene\, Herman Dune’s latest album\, the locally titled\, Notes From Vinegar Hill was hailed internationally\, earning kudos including as “a song by song unassuming gem” (MOJO Magazine) and “a tangy\, tender and true missive from a beloved alt/indie outsider.” (Record Collector)
URL:https://grandvision.org/event/roses-pawn-shop/
LOCATION:The Grand Annex\, 434 W. 6th St.\, San Pedro\, CA\, 90731
CATEGORIES:Americana,Featured Events,The Grand Annex
ATTACH;FMTTYPE=image/jpeg:https://grandvision.org/wp-content/uploads/2021/08/GVF-ROSESPAWNSHOP-new.jpg
END:VEVENT
BEGIN:VEVENT
DTSTART;TZID=America/Los_Angeles:20211008T200000
DTEND;TZID=America/Los_Angeles:20211008T200000
DTSTAMP:20260422T042004
CREATED:20210806T190648Z
LAST-MODIFIED:20211029T190500Z
UID:10000159-1633723200-1633723200@grandvision.org
SUMMARY:Hubby Jenkins
DESCRIPTION:Banjoist\, bones player\, and guitarist and a member of the Grammy-nominated Carolina Chocolate Drops\, Jenkins brings the African American historical experience back into traditional American ragtime\, blues\, country and the gospel of the rural South. \nRead more about Hubby Jenkins from Living Blues Magazine #253\, 2/2018 \nOpener: Joselyn & Don return to the stage with their soul-infused American roots music. Joselyn’s voice recalls both Laura Nyro and Emmylou Harris while Don’s guitar ranges from twang to blues to rock. The duo’s debut album\, “Soar” was added to over 100 independent radio stations and received stellar reviews. LISTEN
URL:https://grandvision.org/event/hubby-jenkins/
LOCATION:The Grand Annex\, 434 W. 6th St.\, San Pedro\, CA\, 90731
CATEGORIES:Americana,Featured Events,The Grand Annex
ATTACH;FMTTYPE=image/jpeg:https://grandvision.org/wp-content/uploads/2021/08/GVF-HubbyJenkins-NEW.jpg
END:VEVENT
BEGIN:VEVENT
DTSTART;TZID=America/Los_Angeles:20210923T200000
DTEND;TZID=America/Los_Angeles:20210923T200000
DTSTAMP:20260422T042004
CREATED:20210806T185553Z
LAST-MODIFIED:20211029T190334Z
UID:10000157-1632427200-1632427200@grandvision.org
SUMMARY:Sarah Lee Guthrie
DESCRIPTION:Sarah Lee sings originals plus the iconic songs made famous by her father\, Arlo\, her grandfather\, Woody (who wrote This Land is Your Land) and their comrades in music. \nTicket holders can join her pre-show Sing-Along\, “What Woody & Pete Had to Say.” 5:00pm-5:45pm (Sing-Along space limited to 30) \nPremium Concert.
URL:https://grandvision.org/event/sarah-lee-guthrie/
LOCATION:The Grand Annex\, 434 W. 6th St.\, San Pedro\, CA\, 90731
CATEGORIES:Americana,Featured Events,The Grand Annex
ATTACH;FMTTYPE=image/jpeg:https://grandvision.org/wp-content/uploads/2021/08/GVF-SARAHLEEGUTHRIE-new.jpg
END:VEVENT
END:VCALENDAR