BEGIN:VCALENDAR
VERSION:2.0
PRODID:-//Grandvision.org - ECPv6.15.19//NONSGML v1.0//EN
CALSCALE:GREGORIAN
METHOD:PUBLISH
X-ORIGINAL-URL:https://grandvision.org
X-WR-CALDESC:Events for Grandvision.org
REFRESH-INTERVAL;VALUE=DURATION:PT1H
X-Robots-Tag:noindex
X-PUBLISHED-TTL:PT1H
BEGIN:VTIMEZONE
TZID:America/Los_Angeles
BEGIN:DAYLIGHT
TZOFFSETFROM:-0800
TZOFFSETTO:-0700
TZNAME:PDT
DTSTART:20210314T100000
END:DAYLIGHT
BEGIN:STANDARD
TZOFFSETFROM:-0700
TZOFFSETTO:-0800
TZNAME:PST
DTSTART:20211107T090000
END:STANDARD
BEGIN:DAYLIGHT
TZOFFSETFROM:-0800
TZOFFSETTO:-0700
TZNAME:PDT
DTSTART:20220313T100000
END:DAYLIGHT
BEGIN:STANDARD
TZOFFSETFROM:-0700
TZOFFSETTO:-0800
TZNAME:PST
DTSTART:20221106T090000
END:STANDARD
BEGIN:DAYLIGHT
TZOFFSETFROM:-0800
TZOFFSETTO:-0700
TZNAME:PDT
DTSTART:20230312T100000
END:DAYLIGHT
BEGIN:STANDARD
TZOFFSETFROM:-0700
TZOFFSETTO:-0800
TZNAME:PST
DTSTART:20231105T090000
END:STANDARD
END:VTIMEZONE
BEGIN:VEVENT
DTSTART;TZID=America/Los_Angeles:20221022T200000
DTEND;TZID=America/Los_Angeles:20221022T200000
DTSTAMP:20260423T162642
CREATED:20220705T033442Z
LAST-MODIFIED:20221018T220809Z
UID:10000246-1666468800-1666468800@grandvision.org
SUMMARY:Jack of Hearts The Music of Bob Dylan
DESCRIPTION:This show is SOLD OUT! Please visit GRANDVISION.ORG for other events you might enjoy.\nTo join the waitlist\, CALL 310-833-4813. Placement on the waitlist does not guarantee a ticket. \nFor over five decades\, Bob Dylan has remained one of the most important figures in modern American music.\nLed by Jaime Daniels\, Jack of Hearts Band delivers the sound of Dylan paying tribute to the spirit and artistry of the original Rolling Thunder Revue through a selection of Dylan’s iconic songs as well as highlights from his acclaimed 1976 album Desire. The Jack of Hearts Band will perform alongside a caravan of special guests and friends – to bring you an unforgettable night of classic songs honoring the Dylan legacy. \n 
URL:https://grandvision.org/event/jack-of-hearts/
LOCATION:The Grand Annex\, 434 W. 6th St.\, San Pedro\, CA\, 90731
CATEGORIES:Americana,Concert,Grand Vision Season,Rock,The Grand Annex
ATTACH;FMTTYPE=image/jpeg:https://grandvision.org/wp-content/uploads/2022/07/Fall-2022-Jack-of-Hearts-510x287-1.jpg
END:VEVENT
END:VCALENDAR