BEGIN:VCALENDAR
VERSION:2.0
PRODID:-//Grandvision.org - ECPv6.15.19//NONSGML v1.0//EN
CALSCALE:GREGORIAN
METHOD:PUBLISH
X-WR-CALNAME:Grandvision.org
X-ORIGINAL-URL:https://grandvision.org
X-WR-CALDESC:Events for Grandvision.org
REFRESH-INTERVAL;VALUE=DURATION:PT1H
X-Robots-Tag:noindex
X-PUBLISHED-TTL:PT1H
BEGIN:VTIMEZONE
TZID:America/Los_Angeles
BEGIN:DAYLIGHT
TZOFFSETFROM:-0800
TZOFFSETTO:-0700
TZNAME:PDT
DTSTART:20240310T100000
END:DAYLIGHT
BEGIN:STANDARD
TZOFFSETFROM:-0700
TZOFFSETTO:-0800
TZNAME:PST
DTSTART:20241103T090000
END:STANDARD
BEGIN:DAYLIGHT
TZOFFSETFROM:-0800
TZOFFSETTO:-0700
TZNAME:PDT
DTSTART:20250309T100000
END:DAYLIGHT
BEGIN:STANDARD
TZOFFSETFROM:-0700
TZOFFSETTO:-0800
TZNAME:PST
DTSTART:20251102T090000
END:STANDARD
BEGIN:DAYLIGHT
TZOFFSETFROM:-0800
TZOFFSETTO:-0700
TZNAME:PDT
DTSTART:20260308T100000
END:DAYLIGHT
BEGIN:STANDARD
TZOFFSETFROM:-0700
TZOFFSETTO:-0800
TZNAME:PST
DTSTART:20261101T090000
END:STANDARD
END:VTIMEZONE
BEGIN:VEVENT
DTSTART;TZID=America/Los_Angeles:20251205T200000
DTEND;TZID=America/Los_Angeles:20251205T200000
DTSTAMP:20260421T182958
CREATED:20250821T184431Z
LAST-MODIFIED:20251027T194611Z
UID:10000835-1764964800-1764964800@grandvision.org
SUMMARY:The Nightcaps Holiday Lounge
DESCRIPTION:Kick off the holidays with a night of mid-century swing\, nostalgic Vince Guaraldi tunes (think A Charlie Brown Christmas)\, and seasonal favorites. Former Glenn Miller Orchestra frontman Mark Kopitzke seamlessly bridges the velvet of Sinatra with a modern\, soulful groove. He tours international music halls\, major cruise lines\, and is a regular at Disneyland with his Secret Agents band.The band features: Christine Araoka on keys\, Anthony Johnson on drums and Mackenzie Leighton on bass.
URL:https://grandvision.org/event/the-nightcaps-holiday-lounge/
LOCATION:The Grand Annex\, 434 W. 6th St.\, San Pedro\, CA\, 90731
CATEGORIES:Featured Events,Grand Vision Season,The Grand Annex
ATTACH;FMTTYPE=image/png:https://grandvision.org/wp-content/uploads/2025/08/25-Fall-Website-Images-1.png
END:VEVENT
END:VCALENDAR