BEGIN:VCALENDAR
VERSION:2.0
PRODID:-//Grandvision.org - ECPv6.15.19//NONSGML v1.0//EN
CALSCALE:GREGORIAN
METHOD:PUBLISH
X-WR-CALNAME:Grandvision.org
X-ORIGINAL-URL:https://grandvision.org
X-WR-CALDESC:Events for Grandvision.org
REFRESH-INTERVAL;VALUE=DURATION:PT1H
X-Robots-Tag:noindex
X-PUBLISHED-TTL:PT1H
BEGIN:VTIMEZONE
TZID:America/Los_Angeles
BEGIN:DAYLIGHT
TZOFFSETFROM:-0800
TZOFFSETTO:-0700
TZNAME:PDT
DTSTART:20220313T100000
END:DAYLIGHT
BEGIN:STANDARD
TZOFFSETFROM:-0700
TZOFFSETTO:-0800
TZNAME:PST
DTSTART:20221106T090000
END:STANDARD
BEGIN:DAYLIGHT
TZOFFSETFROM:-0800
TZOFFSETTO:-0700
TZNAME:PDT
DTSTART:20230312T100000
END:DAYLIGHT
BEGIN:STANDARD
TZOFFSETFROM:-0700
TZOFFSETTO:-0800
TZNAME:PST
DTSTART:20231105T090000
END:STANDARD
BEGIN:DAYLIGHT
TZOFFSETFROM:-0800
TZOFFSETTO:-0700
TZNAME:PDT
DTSTART:20240310T100000
END:DAYLIGHT
BEGIN:STANDARD
TZOFFSETFROM:-0700
TZOFFSETTO:-0800
TZNAME:PST
DTSTART:20241103T090000
END:STANDARD
END:VTIMEZONE
BEGIN:VEVENT
DTSTART;TZID=America/Los_Angeles:20231002T190000
DTEND;TZID=America/Los_Angeles:20231002T200000
DTSTAMP:20260421T150649
CREATED:20230626T173952Z
LAST-MODIFIED:20230913T222641Z
UID:10000429-1696273200-1696276800@grandvision.org
SUMMARY:TEAM TAIKO Drum Classes Fall Session
DESCRIPTION:We believe in creating unique opportunities for people to meet their neighbors and engage in their community in a new way. Come play with us! \nTaiko is a Japanese traditional drumming practice that\, over the last several decades\, has become a global phenomenon. Since 2013\, Grand Vision has partnered with leading taiko instructors to bring the art form to the South Bay. \nTaiko Artist Man Man Mui guides participants toward a repertoire of drumming techniques and patterns. Sessions include developing rhythmic sensibility\, body awareness\, breath and strength training as students make music together as a team. \nTeam Taiko is open to all skill levels and abilities\, from beginners to seasoned musicians\, and fees are on a sliding scale. Recommended for ages 12 and up\, children must participate with a guardian or have a signed participation waiver. \nClasses are offered in person and streamed live via Zoom to allow for all to participate. \n  \nFall Session Mondays at 7PM September-October\n\nMonday\, September 11 – 7PM\nMonday\, September 18 – 7PM\nMonday\, September 25 – 7PM\nMonday\, October 2 – 7PM\nMonday\, October 9 – 7PM\nMonday\, October 16 – 7PM\nMonday\, October 23 – 7PM\nMonday\, October 30 – 7PM
URL:https://grandvision.org/event/team-taiko-drum-classesspring-session/2023-10-02/
LOCATION:The Grand Annex\, 434 W. 6th St.\, San Pedro\, CA\, 90731
CATEGORIES:Class
ATTACH;FMTTYPE=image/png:https://grandvision.org/wp-content/uploads/2022/04/20.png
END:VEVENT
END:VCALENDAR