BEGIN:VCALENDAR
VERSION:2.0
PRODID:-//Grandvision.org - ECPv6.15.19//NONSGML v1.0//EN
CALSCALE:GREGORIAN
METHOD:PUBLISH
X-WR-CALNAME:Grandvision.org
X-ORIGINAL-URL:https://grandvision.org
X-WR-CALDESC:Events for Grandvision.org
REFRESH-INTERVAL;VALUE=DURATION:PT1H
X-Robots-Tag:noindex
X-PUBLISHED-TTL:PT1H
BEGIN:VTIMEZONE
TZID:America/Los_Angeles
BEGIN:DAYLIGHT
TZOFFSETFROM:-0800
TZOFFSETTO:-0700
TZNAME:PDT
DTSTART:20230312T100000
END:DAYLIGHT
BEGIN:STANDARD
TZOFFSETFROM:-0700
TZOFFSETTO:-0800
TZNAME:PST
DTSTART:20231105T090000
END:STANDARD
BEGIN:DAYLIGHT
TZOFFSETFROM:-0800
TZOFFSETTO:-0700
TZNAME:PDT
DTSTART:20240310T100000
END:DAYLIGHT
BEGIN:STANDARD
TZOFFSETFROM:-0700
TZOFFSETTO:-0800
TZNAME:PST
DTSTART:20241103T090000
END:STANDARD
BEGIN:DAYLIGHT
TZOFFSETFROM:-0800
TZOFFSETTO:-0700
TZNAME:PDT
DTSTART:20250309T100000
END:DAYLIGHT
BEGIN:STANDARD
TZOFFSETFROM:-0700
TZOFFSETTO:-0800
TZNAME:PST
DTSTART:20251102T090000
END:STANDARD
END:VTIMEZONE
BEGIN:VEVENT
DTSTART;TZID=America/Los_Angeles:20240315T200000
DTEND;TZID=America/Los_Angeles:20240315T200000
DTSTAMP:20260425T142121
CREATED:20231207T231339Z
LAST-MODIFIED:20240315T235328Z
UID:63370-1710532800-1710532800@grandvision.org
SUMMARY:Caro Pierotto Pre-concert Wine Tasting🍷
DESCRIPTION:This show is SOLD OUT.  \nFrom the moment Grammy-nominated Caro Pierotto strikes her first note\, her captivating warm voice energizes the room. Accompanied by her all-star band\, you’ll hear covers and originals in Portuguese\, Spanish\, and English featuring elements of samba\, reggae and soulful pop. \n“The expressiveness and technical mastery in Caro Pierotto’s voice underscores Brazil’s tradition of great female singers – from Sylvia Telles to Gal Costa.”- Ernesto Lechner/Latin Alternative for NPR \n			\n			\n				\n				\n				\n				\n			\n				\n				\n				\n				\n				\n				\n				\n				\n				\n				\n				Pierotto’s music has found audiences all over the globe. Her 2023 album\, ‘Sambalismo’\, has been cited as one of the Brazilian Music Albums of the year. \n🍷Pre-Concert Wine Tastings: \nTaste fine wines. Wine Tastings are led by professional sommelier\, Jean-Philippe Molinari. \nFree to Grand Vision members at the Friend\, Champion\, VIP Circle\, Arts Advocate\, and Performing Arts Patron level – up to two per household\, $16 per person for all others. Concert tickets are required to participate. Members’ tasting tickets must be redeemed in advance. Tastings begin one hour before the show\, please arrive no later than 30 minutes into the tasting to participate.
URL:https://grandvision.org/event/caro-pierotto-brazilian-sensation/
LOCATION:The Grand Annex\, 434 W. 6th St.\, San Pedro\, CA\, 90731
CATEGORIES:Featured Events,Grand Vision Season,The Grand Annex
ATTACH;FMTTYPE=image/png:https://grandvision.org/wp-content/uploads/2023/12/Caro-Pierotto-2.png
END:VEVENT
END:VCALENDAR